BEGIN:VCALENDAR
VERSION:2.0
PRODID:-//Animal Welfare League of Arlington - ECPv6.15.17//NONSGML v1.0//EN
CALSCALE:GREGORIAN
METHOD:PUBLISH
X-WR-CALNAME:Animal Welfare League of Arlington
X-ORIGINAL-URL:https://www.awla.org
X-WR-CALDESC:Events for Animal Welfare League of Arlington
REFRESH-INTERVAL;VALUE=DURATION:PT1H
X-Robots-Tag:noindex
X-PUBLISHED-TTL:PT1H
BEGIN:VTIMEZONE
TZID:America/New_York
BEGIN:DAYLIGHT
TZOFFSETFROM:-0500
TZOFFSETTO:-0400
TZNAME:EDT
DTSTART:20170312T070000
END:DAYLIGHT
BEGIN:STANDARD
TZOFFSETFROM:-0400
TZOFFSETTO:-0500
TZNAME:EST
DTSTART:20171105T060000
END:STANDARD
BEGIN:DAYLIGHT
TZOFFSETFROM:-0500
TZOFFSETTO:-0400
TZNAME:EDT
DTSTART:20180311T070000
END:DAYLIGHT
BEGIN:STANDARD
TZOFFSETFROM:-0400
TZOFFSETTO:-0500
TZNAME:EST
DTSTART:20181104T060000
END:STANDARD
BEGIN:DAYLIGHT
TZOFFSETFROM:-0500
TZOFFSETTO:-0400
TZNAME:EDT
DTSTART:20190310T070000
END:DAYLIGHT
BEGIN:STANDARD
TZOFFSETFROM:-0400
TZOFFSETTO:-0500
TZNAME:EST
DTSTART:20191103T060000
END:STANDARD
END:VTIMEZONE
BEGIN:VEVENT
DTSTART;TZID=America/New_York:20181201T110000
DTEND;TZID=America/New_York:20181201T160000
DTSTAMP:20260425T153357
CREATED:20181116T223625Z
LAST-MODIFIED:20201030T171915Z
UID:10002305-1543662000-1543680000@www.awla.org
SUMMARY:Holiday Pawtraits!
DESCRIPTION:
URL:https://www.awla.org/event/holiday-pawtraits/
CATEGORIES:Fundraiser
END:VEVENT
BEGIN:VEVENT
DTSTART;TZID=America/New_York:20181206T183000
DTEND;TZID=America/New_York:20181206T203000
DTSTAMP:20260425T153357
CREATED:20180221T170405Z
LAST-MODIFIED:20201030T171909Z
UID:10002121-1544121000-1544128200@www.awla.org
SUMMARY:Low-Cost Rabies & Microchip Clinic
DESCRIPTION:Please bring proof of a prior rabies shot (a rabies certificate\, not a tag) to get a three-year rabies shot. Without it\, your pet will receive a one-year shot. Waiting is outdoors\, so please dress for the weather. All dogs must be on leash and cats must be in carriers. Waiting is outside so dress appropriately for the weather. \nRabies shot: $10.00 \n24PetWatch MiniChip: $35.00
URL:https://www.awla.org/event/low-cost-rabies-microchip-clinic-31/
CATEGORIES:Clinics
END:VEVENT
BEGIN:VEVENT
DTSTART;TZID=America/New_York:20181208T100000
DTEND;TZID=America/New_York:20181208T140000
DTSTAMP:20260425T153357
CREATED:20181128T190135Z
LAST-MODIFIED:20201030T171903Z
UID:10002307-1544263200-1544277600@www.awla.org
SUMMARY:Gifts That Give Hope Alternative Gift-Giving Fair
DESCRIPTION:AWLA will be participating in the Gifts That Give Hope Fair again this year on Saturday\, Dec 8th from 10 AM- 2 PM.  This alternative gift-giving  fair puts a new spin on gift-giving. The concept is simple: fair participants and online shoppers make a donation to one of our locally-based nonprofits\, personalize a Gifts That Give Hope greeting card for a loved one\, and give that act of kindness as a gift. \nThanks to our generous shoppers\, children with learning challenges are getting new books\, a homeless shelter is getting fresh blankets\, orphans in Haiti are getting formula\, and dozens of other acts of kindness are happening around the world. \nEvent:  Gifts that Give Hope Fair on Saturday\, December 8th from 10 AM- 2 PM \nLocation:  Arlington Science Focus School  located at 1501 N Lincoln St\, Arlington VA 22201 \nParking:  FREE: School Parking lot or PAY: Street Parking \nAdditional Information:\nIf you would like additional information on the event\, please visit: http://www.giftsthatgivehope.org/arlington \nThe is also a shopping list for fair attendees to choose from:  http://www.giftsthatgivehope.org/node/376 or those who cannot attend in-person can shop online now at  https://squareup.com/store/gifts-that-give-hope-nova
URL:https://www.awla.org/event/join-us-at-the-gifts-that-give-hope-alternative-gift-giving-fair-to-support-awla/
CATEGORIES:AWLA in the Community,Fundraiser
END:VEVENT
BEGIN:VEVENT
DTSTART;TZID=America/New_York:20181210T183000
DTEND;TZID=America/New_York:20181210T203000
DTSTAMP:20260425T153357
CREATED:20180525T191842Z
LAST-MODIFIED:20201030T171847Z
UID:10002267-1544466600-1544473800@www.awla.org
SUMMARY:Baby-Ready Pets
DESCRIPTION:Every year\, thousands of animals are turned into shelters by parents concerned about how their pet may affect the health and safety of their new baby. Any pet can have undesirable\, although natural reactions to a new baby. New sounds\, smells\, and activities surrounding an infant may cause a pet to see the baby as competition\, prey\, or even a toy. \nBaby-Ready Pets offers preparation and assistance to help expectant families prepare their home and their pets for the arrival of the new baby and to make sure that it is a safe and (relatively) stress-free experience for all. This seminar is based on a program created by the Providence Animal Rescue League and the Rhode Island SPCA\, and has been endorsed by the ASPCA. The Animal Welfare League of Arlington’s staff will present Baby-Ready Pets for expectant parents in a two-hour workshop at the League. \nAfter the program\, participants may call or e-mail follow-up questions if they need additional support. Participants will also receive helpful handouts and a CD of baby sounds to help desensitize their pets to the sounds of the new arrival. This is a HUMAN-ONLY class\, please leave your pets at home. Baby-Ready Pets sessions are from 6:30-8:30 p.m. at the Animal Welfare League of Arlington\, 2650 S. Arlington Mill Drive. \nThere is no fee for the class\, but donations are welcome. Reservations are required and space is limited. \nTo see all available class dates and register for a class\, please visit our Baby-Ready Pets Registration Page.
URL:https://www.awla.org/event/baby-ready-pets-22/
CATEGORIES:Educational Programs,Free Educational Programs
END:VEVENT
BEGIN:VEVENT
DTSTART;TZID=America/New_York:20181214T173000
DTEND;TZID=America/New_York:20181214T203000
DTSTAMP:20260425T153357
CREATED:20181005T134144Z
LAST-MODIFIED:20201030T171840Z
UID:10002297-1544808600-1544819400@www.awla.org
SUMMARY:AWLA Kids' HOLIDAY Movie Night at AWLA
DESCRIPTION:Register now for AWLA’s Kids’ Movie night for children ages 6-10 years old. Movie night is from 5:30-8:30 PM. Registered participants are invited to attend in PJs and to bring a blanket/pillow for cozy movie viewing. \nWe will be playing a HOLIDAY movie\, have a tour of the shelter\, have an animal interaction and serve cheese pizza\, popcorn\, and lemonade to participants.  Doors Open at 5:30 PM. \nThe registration fee is $30 for the each child. Registration is online only. \nREGISTRATION HERE for 12/14/18 Kids’ Movie Night\nUpon the submission of the registration form\, a link to pay the required fee will appear. Registration form submissions without the appropriate fee payment will be considered to be invalid/incomplete and will not guarantee a reservation for your child. \nPlease note: There will be an animal interaction with movie night attendees but we are not able to advertise what type of animal the kids will interact with in advance as we do not know who we’ll have available that will be age-appropriate. If your child has severe allergies to cats\, dogs\, or small companion (bunnies\,ferrets\, guinea pigs\, birds\, etc.) animals this may not be an appropriate event for them to attend.
URL:https://www.awla.org/event/awla-kids-movie-night-at-awla/
CATEGORIES:Fundraiser
END:VEVENT
BEGIN:VEVENT
DTSTART;TZID=America/New_York:20181216T103000
DTEND;TZID=America/New_York:20181216T233000
DTSTAMP:20260425T153357
CREATED:20181129T000035Z
LAST-MODIFIED:20201030T171828Z
UID:10002308-1544956200-1545003000@www.awla.org
SUMMARY:Introduction to Nosework for Dogs
DESCRIPTION:Join us at AWLA for our first ‘Introduction to Nosework’ class! Click here to sign up. \nThis class will give dogs and their people a chance to learn more about this fun sport. Nosework has become increasingly popular in the past several years. It is a great activity you can enjoy with your dog that teaches them to use their super-sniffer nose! \nNosework focuses on your dog working independently. It’s a sport that you can take to a competitive level or just have fun with at home. Nosework will challenge you and your dog in a fun way\, it will help you learn to problem solve together and build your relationship. This class is great for all sorts of dogs and can especially benefit shy dogs by increasing their confidence\, active and/or anxious dogs by giving them a job to do. We hope you’ll join us! \nPricing:\nShelter/rescue alumni: $15\nNon-shelter/rescue alumni: $20 \n** Please arrive fifteen minutes early to make your payment\, submit your dog’s vaccine records\, and sign a liability waiver. ** \nPLEASE NOTE: No human aggressive animals. Dogs must be wearing a properly fitted collar and/or harness with four to six foot leash. No prong or shock collars. No retractable leashes. Participants must sign a liability waiver and show proof that their pet has current rabies\, distemper\, and kennel cough (bordatella) vaccines. \nClick here to sign up!
URL:https://www.awla.org/event/introduction-to-nosework-for-dogs/
CATEGORIES:Training,Workshops
END:VEVENT
BEGIN:VEVENT
DTSTART;TZID=America/New_York:20181220T120000
DTEND;TZID=America/New_York:20181220T180000
DTSTAMP:20260425T153357
CREATED:20181205T205820Z
LAST-MODIFIED:20201030T171810Z
UID:10002309-1545307200-1545328800@www.awla.org
SUMMARY:Home for the Holidays
DESCRIPTION:  \nGive the gift of family this holiday season:\nfoster a shelter pet through our Home for the Holidays program!\n  \nFrom December 20th to 27th\, we are inviting local families to give shelter a break from their kennels and bring them home for the holidays. Our goal is to get as many animals as possible into foster homes for the holidays – dogs\, cats\, rabbits\, and guinea pigs alike! \nThere is no fee to take part in this program. AWLA will provide all basic supplies for your foster pet\, but of course fosters are welcomed (even encouraged) to provide them with extra toys\, etc during their stay. If you choose to adopt your foster pet at the end of (or before!) the foster period\, you will receive $25 off your adoption fee! \n*PLEASE NOTE: we are running low on leashes and pet carriers\, so please plan to bring one with you to pick up your foster pet!* \n  \nHere’s how it works:\n\nSign up using this form. This is not required\, but will help AWLA gauge interest in the program\, and will help us determine what foster pet might be a good fit for you!\nArrive at the shelter on Dec 20th anytime between 12PM – 6PM to pick up your foster pet (if you are not available Dec 20th\, you may also pick up Dec 21st\, 22nd\, or 23rd). AWLA staff will work with you to assign an appropriate foster pet at the time of pick-up.\nBring home your foster pet! Fosters must be able to keep their foster pet from the time of pickup until Dec 27th at noon\, barring serious unknown behavioral or medical issues with their foster pet. Fosters may opt to extend their foster period until January 2nd\, 2019.\n\n  \nPlease note:\n\nFosters need to be residents of VA\, MD\, or DC.\nSigning up in advance does not guarantee participation/approval in the foster program. It does mean that you will receive program updates via email\, and will make your foster contract process faster once a foster pet has been assigned to you.\nWe anticipate there may be wait times on Dec 20th to pick up foster pets. Please be prepared to wait\, and understand that because of these we cannot guarantee you will be able to foster a pet of your choosing (although fosters can dictate what species of pet they foster) – foster pets will be sent home on a first-come\, first-serve basis to appropriate foster homes.\nFosters need to be able to keep foster pets separated from owned pets in their home. Owned pets in the home also need to be current on their rabies vaccines. We ask that foster cats/rabbits/guinea pigs are kept strictly indoors\, and foster dogs are not taken to dog parks.\n\n  \nClick here to sign up for the Home for the Holidays program!
URL:https://www.awla.org/event/homefortheholidays/
CATEGORIES:Adoption
END:VEVENT
BEGIN:VEVENT
DTSTART;TZID=America/New_York:20181222T100000
DTEND;TZID=America/New_York:20181222T150000
DTSTAMP:20260425T153357
CREATED:20181217T204317Z
LAST-MODIFIED:20201030T171804Z
UID:10002310-1545472800-1545490800@www.awla.org
SUMMARY:Gift-Wrapping for Good
DESCRIPTION:Join us for your last minute holiday gift wrapping at Animal Welfare League of Arlington.  AWLA elves (aka volunteers) will wrap your gifts. \nThere is a suggested donation of $3 for one item or $10 for four items   AWLA will receive 100% of the proceeds for this event. \nIf you need a gift for your pet\, we have a fantastic retail section too!
URL:https://www.awla.org/event/join-us-for-your-last-minute-gift-wrapping-needs-and-support-awla/
CATEGORIES:Fundraiser
END:VEVENT
END:VCALENDAR