BEGIN:VCALENDAR
VERSION:2.0
PRODID:-//Animal Welfare League of Arlington - ECPv6.15.17//NONSGML v1.0//EN
CALSCALE:GREGORIAN
METHOD:PUBLISH
X-WR-CALNAME:Animal Welfare League of Arlington
X-ORIGINAL-URL:https://www.awla.org
X-WR-CALDESC:Events for Animal Welfare League of Arlington
REFRESH-INTERVAL;VALUE=DURATION:PT1H
X-Robots-Tag:noindex
X-PUBLISHED-TTL:PT1H
BEGIN:VTIMEZONE
TZID:America/New_York
BEGIN:DAYLIGHT
TZOFFSETFROM:-0500
TZOFFSETTO:-0400
TZNAME:EDT
DTSTART:20180311T070000
END:DAYLIGHT
BEGIN:STANDARD
TZOFFSETFROM:-0400
TZOFFSETTO:-0500
TZNAME:EST
DTSTART:20181104T060000
END:STANDARD
BEGIN:DAYLIGHT
TZOFFSETFROM:-0500
TZOFFSETTO:-0400
TZNAME:EDT
DTSTART:20190310T070000
END:DAYLIGHT
BEGIN:STANDARD
TZOFFSETFROM:-0400
TZOFFSETTO:-0500
TZNAME:EST
DTSTART:20191103T060000
END:STANDARD
BEGIN:DAYLIGHT
TZOFFSETFROM:-0500
TZOFFSETTO:-0400
TZNAME:EDT
DTSTART:20200308T070000
END:DAYLIGHT
BEGIN:STANDARD
TZOFFSETFROM:-0400
TZOFFSETTO:-0500
TZNAME:EST
DTSTART:20201101T060000
END:STANDARD
END:VTIMEZONE
BEGIN:VEVENT
DTSTART;TZID=America/New_York:20190211T183000
DTEND;TZID=America/New_York:20190211T203000
DTSTAMP:20260425T214321
CREATED:20180525T192002Z
LAST-MODIFIED:20201030T171738Z
UID:10002268-1549909800-1549917000@www.awla.org
SUMMARY:Baby-Ready Pets
DESCRIPTION:Every year\, thousands of animals are turned into shelters by parents concerned about how their pet may affect the health and safety of their new baby. Any pet can have undesirable\, although natural reactions to a new baby. New sounds\, smells\, and activities surrounding an infant may cause a pet to see the baby as competition\, prey\, or even a toy. \nBaby-Ready Pets offers preparation and assistance to help expectant families prepare their home and their pets for the arrival of the new baby and to make sure that it is a safe and (relatively) stress-free experience for all. This seminar is based on a program created by the Providence Animal Rescue League and the Rhode Island SPCA\, and has been endorsed by the ASPCA. The Animal Welfare League of Arlington’s staff will present Baby-Ready Pets for expectant parents in a two-hour workshop at the League. \nAfter the program\, participants may call or e-mail follow-up questions if they need additional support. Participants will also receive helpful handouts and a CD of baby sounds to help desensitize their pets to the sounds of the new arrival. This is a HUMAN-ONLY class\, please leave your pets at home. Baby-Ready Pets sessions are from 6:30-8:30 p.m. at the Animal Welfare League of Arlington\, 2650 S. Arlington Mill Drive. \nThere is no fee for the class\, but donations are welcome. Reservations are required and space is limited. \nTo see all available class dates and register for a class\, please visit our Baby-Ready Pets Registration Page.
URL:https://www.awla.org/event/baby-ready-pets-23/
CATEGORIES:Educational Programs,Free Educational Programs
END:VEVENT
BEGIN:VEVENT
DTSTART;TZID=America/New_York:20190213T120000
DTEND;TZID=America/New_York:20190213T190000
DTSTAMP:20260425T214321
CREATED:20190208T032510Z
LAST-MODIFIED:20201030T171732Z
UID:10002314-1550059200-1550084400@www.awla.org
SUMMARY:Galentine's Day Adoption Event
DESCRIPTION:Treat yo’ self to a new BFF this Galentine’s Day! On February 13th from 12-7PM\, we’ll have ‘pick-a-price’ adoption fees for all pets older than 6 months! \nWhat is Galentine’s Day\, you ask? It’s only the best day of the year\, February 13th\, where you hang out with your gal pals\, just ladies celebrating ladies! \nEvery Leslie needs an Ann\, and every pet needs a person. We have so many gal pals (and ‘honorary’ gal pals) here at the shelter looking for a best friend\, so come visit us on February 13th to find your new best friend! \n**Standard adoption policies apply. Adopters should bring a valid I.D. and proof of address\, and all pets must leave the shelter wearing a collar and identification.**
URL:https://www.awla.org/event/galentines-day-adoption-event/
CATEGORIES:Adoption
END:VEVENT
BEGIN:VEVENT
DTSTART;TZID=America/New_York:20190226T183000
DTEND;TZID=America/New_York:20190226T200000
DTSTAMP:20260425T214321
CREATED:20190212T164039Z
LAST-MODIFIED:20201030T171721Z
UID:10002316-1551205800-1551211200@www.awla.org
SUMMARY:Kitten College Foster Training
DESCRIPTION:The Animal Welfare League of Arlington is one of the only shelters in the nation that takes in kittens from other jurisdictions. In fact\, AWLA takes in just a very few kittens from Arlington County\, thanks to our highly successful trap-neuter-return program that has greatly reduced the population of feral cats. Instead\, the Kitten College answers the needs of shelters and groups in DC\, Maryland\, Virginia and West Virginia. We take in orphaned and sick kittens that require bottle-feeding and specialized care; some remain in the College for intensive care\, while others go to our expansive network of foster caregivers. \nDuring the session we will cover fostering basics\, policies and procedures\, and teach potential fosters how to bottle feed\, about common neonatal kitten health issues\, and more! \nThe Kitten College opened in late July 2017 and by year’s end had taken in 356 kittens ages newborn to eight weeks; during the entire previous year (2016) AWLA took in 92 kittens of the same age. In just five months the College tripled the number of kittens saved while also increasing their survival rate!  In 2018 we saved 1\,086 kittens and we hope you’ll help us save even more lives this year!
URL:https://www.awla.org/event/kitten-college-foster-training-2/
CATEGORIES:Free Workshops,Training,Workshops
END:VEVENT
END:VCALENDAR