BEGIN:VCALENDAR
VERSION:2.0
PRODID:-//Animal Welfare League of Arlington - ECPv6.15.17//NONSGML v1.0//EN
CALSCALE:GREGORIAN
METHOD:PUBLISH
X-WR-CALNAME:Animal Welfare League of Arlington
X-ORIGINAL-URL:https://www.awla.org
X-WR-CALDESC:Events for Animal Welfare League of Arlington
REFRESH-INTERVAL;VALUE=DURATION:PT1H
X-Robots-Tag:noindex
X-PUBLISHED-TTL:PT1H
BEGIN:VTIMEZONE
TZID:America/New_York
BEGIN:DAYLIGHT
TZOFFSETFROM:-0500
TZOFFSETTO:-0400
TZNAME:EDT
DTSTART:20180311T070000
END:DAYLIGHT
BEGIN:STANDARD
TZOFFSETFROM:-0400
TZOFFSETTO:-0500
TZNAME:EST
DTSTART:20181104T060000
END:STANDARD
BEGIN:DAYLIGHT
TZOFFSETFROM:-0500
TZOFFSETTO:-0400
TZNAME:EDT
DTSTART:20190310T070000
END:DAYLIGHT
BEGIN:STANDARD
TZOFFSETFROM:-0400
TZOFFSETTO:-0500
TZNAME:EST
DTSTART:20191103T060000
END:STANDARD
BEGIN:DAYLIGHT
TZOFFSETFROM:-0500
TZOFFSETTO:-0400
TZNAME:EDT
DTSTART:20200308T070000
END:DAYLIGHT
BEGIN:STANDARD
TZOFFSETFROM:-0400
TZOFFSETTO:-0500
TZNAME:EST
DTSTART:20201101T060000
END:STANDARD
END:VTIMEZONE
BEGIN:VEVENT
DTSTART;TZID=America/New_York:20190607T123000
DTEND;TZID=America/New_York:20190607T133000
DTSTAMP:20260425T233126
CREATED:20190603T174631Z
LAST-MODIFIED:20201104T211054Z
UID:10002196-1559910600-1559914200@www.awla.org
SUMMARY:AWLA's 75th Anniversary
DESCRIPTION:Please join us to\n \nCelebrate AWLA’s 75th Anniversary\n\n&\nour newly renovated front office\n \nFriday\, June 7\nat\n\n12:30 p.m.\nRibbon-cutting & Proclamation\nfollowed by light refreshments\n\n\n \nRSVP to Kat Williams via email at kwilliams@awla.org
URL:https://www.awla.org/event/awlas-75th-anniversary/
CATEGORIES:AWLA in the Community
END:VEVENT
BEGIN:VEVENT
DTSTART;TZID=America/New_York:20190607T130000
DTEND;TZID=America/New_York:20190607T190000
DTSTAMP:20260425T233126
CREATED:20190531T190104Z
LAST-MODIFIED:20201030T171217Z
UID:10002195-1559912400-1559934000@www.awla.org
SUMMARY:75th Anniversary Adoption Special
DESCRIPTION:Celebrate AWLA’s 75th anniversary with 75% off adoption fees!  \nBring a gift* for a shelter pet and receive 75% off adoption fees for ALL animals 6 months and older! We have so many wonderful pets looking for homes of their own. What better way to honor AWLA’s 75 years of saving lives than by bringing home a new best friend? \n*Treats and toys are at the top of our animals’ wishlist\, but we also greatly appreciate towels\, blankets\, cleaning supplies\, and monetary donations! \nStandard adoption policies and procedures apply! \nFriday\, June 7\, 2019\n1:00-7:00pm (the shelter will open one hour later than usual)\n2650 S Arlington Mill Dr\, Arlington VA\, 22206\nView adoptable animals here!
URL:https://www.awla.org/event/75th-anniversary-adoption-special/
CATEGORIES:Adoption
END:VEVENT
BEGIN:VEVENT
DTSTART;TZID=America/New_York:20190608T170000
DTEND;TZID=America/New_York:20190608T210000
DTSTAMP:20260425T233126
CREATED:20190401T134217Z
LAST-MODIFIED:20201030T171207Z
UID:10002318-1560013200-1560027600@www.awla.org
SUMMARY:Walk for the Animals: 75th Anniversary Homecoming
DESCRIPTION:View Event\n \nOn Saturday\, June 8\, 2019 from 5 p.m. to 9 p.m.\, AWLA invites you to Walk for the Animals and celebrate our 75th anniversary of improving the lives of animals in our community. This event will be a Homecoming jubilee\, so adopters and alumni: come party at your alma mater! You’ll be in great company with hundreds of fellow animal lovers and their canine companions. \nRegister today for Early Bird pricing (until May 1st)!\nExpect an evening to remember with live music by Nick\, Ian & The Machine\, dog tricks and training demonstrations\, food trucks\, exhibitors\, a beer garden\, and more! \nThe event takes place at AWLA\, so we can show you what we do\, where we do it\, and most importantly\, the animals we care for and support. Bring a friend\, take a tour\, and meet our adorable\, adoptable animals. \nSince its beginning more than 20 years ago\, the Walk for the Animals has raised life-saving funds to provide critical medical care\, food\, shelter\, training\, and adoption services for tens of thousands of animals. The Walk is the League’s biggest fundraiser and this year our goal is to raise $100\,000 for animals in need. Will you help us? We can’t do it without you. \nRegister today. Invite your friends. If they can’t participate\, see if they’ll make a donation. Spread the word! \nRegistration: \n\n$55 in advance for VIP Registration (includes commemorative beer mug and two drink tickets\, plus Walk registration and t-shirt)\n$35 Early Bird registration until May 1 (includes Walk registration and t-shirt)\n$40 in advance (includes Walk registration and t-shirt)\n$45 day of registration (includes Walk registration and t-shirt)\n$20 Virtual Walker (includes online fundraising page\, registration fee included as first donation)\n$10 for children 7-17 years old (includes Walk registration and t-shirt\, please note t-shirt sizes are limited and first-come first-served)\nFREE for children under 7 years old\n\nNEW!  Get your 75th Anniversary VIP Registration for an exclusive commemorative Beer Mug with Drink Tickets \nThis year\, we are offering Walk attendees the opportunity to drink a pint with their pups!  Reserve your commemorative mug/glass today for only $20 with a VIP Registration.  The mug is yours to take home and includes two (2) drink tickets. \nView Event
URL:https://www.awla.org/event/walk-for-the-animals-75th-anniversary-homecoming/
CATEGORIES:Fundraiser,Walk for the Animals
END:VEVENT
BEGIN:VEVENT
DTSTART;TZID=America/New_York:20190624T000000
DTEND;TZID=America/New_York:20190624T000000
DTSTAMP:20260425T233126
CREATED:20190624T183236Z
LAST-MODIFIED:20201030T171157Z
UID:10002207-1561334400-1561334400@www.awla.org
SUMMARY:CPRO Movie Night: E.T. The Extra-Terrestrial
DESCRIPTION:AWLA is excited to be a special guest at the Columbia Pike Revitalization Organization’s Movie Night on August 16th! Come watch a free movie\, learn more about AWLA\, and meet adoptable pups! \nFind out more info about CPRO’s Movie Night here!
URL:https://www.awla.org/event/cpro-movie-night-e-t-the-extra-terrestrial/
CATEGORIES:AWLA in the Community
END:VEVENT
BEGIN:VEVENT
DTSTART;TZID=America/New_York:20190625T180000
DTEND;TZID=America/New_York:20190625T210000
DTSTAMP:20260425T233126
CREATED:20190620T221030Z
LAST-MODIFIED:20201030T171151Z
UID:10002204-1561485600-1561496400@www.awla.org
SUMMARY:Love is Love: Late-Nite Kitten Adoption Party
DESCRIPTION:  \nJoin us on June 25th from 6-9PM for your last (and purrfect) chance to celebrate National Pride Month…with kittens! We have so many adorable kittens looking for new families\, and they can’t wait to meet YOU! Here at AWLA we know families come in all shapes and sizes…so bring your family to party with us! We’ll have drinks and snacks available and “Spin the Wheel” discounts and prizes\, so wear your favorite rainbow gear and come get some kitten cuddles! \nStandard adoption policies and procedures apply. Kittens must be adopted and taken home at time of approved application\, so make sure to bring valid I.D. and a cat carrier with you if you plan to adopt. There is limited space available\, so we will let visitors in on a first-come\, first-serve basis. We will do our best to accommodate all visitors but cannot guarantee entry.
URL:https://www.awla.org/event/love-is-love-late-kitten-party/
CATEGORIES:Adoption
END:VEVENT
BEGIN:VEVENT
DTSTART;TZID=America/New_York:20190626T183000
DTEND;TZID=America/New_York:20190626T193000
DTSTAMP:20260425T233126
CREATED:20190405T155105Z
LAST-MODIFIED:20201030T170612Z
UID:10002321-1561573800-1561577400@www.awla.org
SUMMARY:Smarty Pets: Pet Preparedness
DESCRIPTION:
URL:https://www.awla.org/event/smarty-pets-pet-preparedness/
CATEGORIES:Educational Programs,Free Educational Programs,Smarty Pets
END:VEVENT
END:VCALENDAR