BEGIN:VCALENDAR
VERSION:2.0
PRODID:-//Animal Welfare League of Arlington - ECPv6.15.17//NONSGML v1.0//EN
CALSCALE:GREGORIAN
METHOD:PUBLISH
X-ORIGINAL-URL:https://www.awla.org
X-WR-CALDESC:Events for Animal Welfare League of Arlington
REFRESH-INTERVAL;VALUE=DURATION:PT1H
X-Robots-Tag:noindex
X-PUBLISHED-TTL:PT1H
BEGIN:VTIMEZONE
TZID:America/New_York
BEGIN:DAYLIGHT
TZOFFSETFROM:-0500
TZOFFSETTO:-0400
TZNAME:EDT
DTSTART:20190310T070000
END:DAYLIGHT
BEGIN:STANDARD
TZOFFSETFROM:-0400
TZOFFSETTO:-0500
TZNAME:EST
DTSTART:20191103T060000
END:STANDARD
BEGIN:DAYLIGHT
TZOFFSETFROM:-0500
TZOFFSETTO:-0400
TZNAME:EDT
DTSTART:20200308T070000
END:DAYLIGHT
BEGIN:STANDARD
TZOFFSETFROM:-0400
TZOFFSETTO:-0500
TZNAME:EST
DTSTART:20201101T060000
END:STANDARD
BEGIN:DAYLIGHT
TZOFFSETFROM:-0500
TZOFFSETTO:-0400
TZNAME:EDT
DTSTART:20210314T070000
END:DAYLIGHT
BEGIN:STANDARD
TZOFFSETFROM:-0400
TZOFFSETTO:-0500
TZNAME:EST
DTSTART:20211107T060000
END:STANDARD
END:VTIMEZONE
BEGIN:VEVENT
DTSTART;TZID=America/New_York:20200509T110000
DTEND;TZID=America/New_York:20200509T120000
DTSTAMP:20260424T183639
CREATED:20200505T152830Z
LAST-MODIFIED:20201030T165508Z
UID:10002395-1589022000-1589025600@www.awla.org
SUMMARY:Virtual Smarty Pets: Feline Body Language
DESCRIPTION:
URL:https://www.awla.org/event/virtual-smarty-pets-feline-body-language/
CATEGORIES:Educational Programs,Free Educational Programs,Smarty Pets
END:VEVENT
BEGIN:VEVENT
DTSTART;TZID=America/New_York:20200514T180000
DTEND;TZID=America/New_York:20200514T190000
DTSTAMP:20260424T183639
CREATED:20200408T202038Z
LAST-MODIFIED:20201030T165457Z
UID:10002392-1589479200-1589482800@www.awla.org
SUMMARY:(Virtual) Smarty Pets: Puppy 101
DESCRIPTION:
URL:https://www.awla.org/event/virtual-smarty-pets-puppy-101/
CATEGORIES:Educational Programs,Free Educational Programs,Smarty Pets
END:VEVENT
BEGIN:VEVENT
DTSTART;TZID=America/New_York:20200521T180000
DTEND;TZID=America/New_York:20200521T190000
DTSTAMP:20260424T183639
CREATED:20200514T142840Z
LAST-MODIFIED:20201030T165448Z
UID:10002398-1590084000-1590087600@www.awla.org
SUMMARY:Virtual Puppy Yoga
DESCRIPTION:Since you can’t come to puppy yoga right now\, we’re bringing puppy yoga to you! \nJoin Beth A Wolfe and a litter of puppies (via puppy cam from their foster home) for a one hour family yoga session to benefit AWLA. Gather the family and zoom into this adorable virtual family yoga class! \nWe’ll do some easy stretching and a few balancing poses\, appropriate and fun for all. \nClick here to register today!
URL:https://www.awla.org/event/virtual-puppy-yoga/
CATEGORIES:Fundraiser,Puppy & Kitten Yoga
END:VEVENT
BEGIN:VEVENT
DTSTART;TZID=America/New_York:20200523T080000
DTEND;TZID=America/New_York:20200524T180000
DTSTAMP:20260424T183639
CREATED:20200511T153333Z
LAST-MODIFIED:20201030T165433Z
UID:10002396-1590220800-1590343200@www.awla.org
SUMMARY:Porch Portraits
DESCRIPTION:
URL:https://www.awla.org/event/porch-portraits/
CATEGORIES:Fundraiser
END:VEVENT
BEGIN:VEVENT
DTSTART;TZID=America/New_York:20200527T090000
DTEND;TZID=America/New_York:20200531T190000
DTSTAMP:20260424T183639
CREATED:20200527T144518Z
LAST-MODIFIED:20201030T165421Z
UID:10002249-1590570000-1590951600@www.awla.org
SUMMARY:Find Love Online Adoption Event
DESCRIPTION:We’re partnering with Best Friends Animal Society to help you Find Love Online! \nFrom May 27-31\, we’re offering 50% off adoption fees for our amazing senior pets\, who are all looking for families to spend their golden years with! Get more info on our senior pets and our virtual adoption process here.
URL:https://www.awla.org/event/find-love-online-adoption-event/
CATEGORIES:Adoption
END:VEVENT
BEGIN:VEVENT
DTSTART;TZID=America/New_York:20200528T180000
DTEND;TZID=America/New_York:20200528T190000
DTSTAMP:20260424T183639
CREATED:20200408T202155Z
LAST-MODIFIED:20201030T165412Z
UID:10002393-1590688800-1590692400@www.awla.org
SUMMARY:(Virtual) Smarty Pets: Kittens 101
DESCRIPTION:
URL:https://www.awla.org/event/virtual-smarty-pets-kittens-101/
CATEGORIES:Educational Programs,Free Educational Programs,Smarty Pets
END:VEVENT
BEGIN:VEVENT
DTSTART;TZID=America/New_York:20200530T080000
DTEND;TZID=America/New_York:20200531T180000
DTSTAMP:20260424T183639
CREATED:20200511T153458Z
LAST-MODIFIED:20201030T165402Z
UID:10002397-1590825600-1590948000@www.awla.org
SUMMARY:Porch Portraits
DESCRIPTION:
URL:https://www.awla.org/event/porch-portraits-2/
CATEGORIES:Fundraiser
END:VEVENT
END:VCALENDAR