BEGIN:VCALENDAR
VERSION:2.0
PRODID:-//Animal Welfare League of Arlington - ECPv6.15.17//NONSGML v1.0//EN
CALSCALE:GREGORIAN
METHOD:PUBLISH
X-ORIGINAL-URL:https://www.awla.org
X-WR-CALDESC:Events for Animal Welfare League of Arlington
REFRESH-INTERVAL;VALUE=DURATION:PT1H
X-Robots-Tag:noindex
X-PUBLISHED-TTL:PT1H
BEGIN:VTIMEZONE
TZID:America/New_York
BEGIN:DAYLIGHT
TZOFFSETFROM:-0500
TZOFFSETTO:-0400
TZNAME:EDT
DTSTART:20190310T070000
END:DAYLIGHT
BEGIN:STANDARD
TZOFFSETFROM:-0400
TZOFFSETTO:-0500
TZNAME:EST
DTSTART:20191103T060000
END:STANDARD
BEGIN:DAYLIGHT
TZOFFSETFROM:-0500
TZOFFSETTO:-0400
TZNAME:EDT
DTSTART:20200308T070000
END:DAYLIGHT
BEGIN:STANDARD
TZOFFSETFROM:-0400
TZOFFSETTO:-0500
TZNAME:EST
DTSTART:20201101T060000
END:STANDARD
BEGIN:DAYLIGHT
TZOFFSETFROM:-0500
TZOFFSETTO:-0400
TZNAME:EDT
DTSTART:20210314T070000
END:DAYLIGHT
BEGIN:STANDARD
TZOFFSETFROM:-0400
TZOFFSETTO:-0500
TZNAME:EST
DTSTART:20211107T060000
END:STANDARD
END:VTIMEZONE
BEGIN:VEVENT
DTSTART;TZID=America/New_York:20200601T080000
DTEND;TZID=America/New_York:20200630T120000
DTSTAMP:20260424T201807
CREATED:20200601T152127Z
LAST-MODIFIED:20201030T165323Z
UID:10002251-1590998400-1593518400@www.awla.org
SUMMARY:AWLA Calendar Contest
DESCRIPTION:It’s Time For Your Pet To Strike A Pose!\nWelcome to the Animal Welfare League of Arlington’s Calendar Contest Fundraiser! This is your chance to make your pet a local celebrity\, with their photo on the cover of our 2020/2021 calendar (yep\, that’s right\, this year we’re printing a 16-month calendar)! \nEach photo entry and vote equals life-saving funds that care for animals in need. From tiny kittens\, senior pups\, injured wildlife\, pet parents in need\, and everything in between\, your support guides us on our mission to improve the lives of pets and people in Arlington County. \nSo what are you waiting for? We KNOW you have adorable photos of your pet on your phone – and if you don’t it’s time to start snapping! May the cutest pet win! ENTER HERE! \nNEW THIS YEAR:\nThis time around we will be printing a 16-month 2020/21 calendar!\nIn order to continue practicing social distancing\, ALL calendars will be shipped directly to anyone who enters the contest or purchases a calendar. All orders must be placed by June 30th in order to have a calendar(s) shipped to you. \nGrand Prize (1) \nYour pet’s photo on the cover of our 2020 calendar!\nA professional photo-shoot with Mike Leonard Photo*.\nA feature on the inside cover of the calendar.\nYour pet’s photo featured on the home-page of our website for one month.\nAn 8×10 original watercolor portrait of your pet by Alexandra Schmeling.\nA $100 gift card to AWLA’s online merch store.\n*Due to social distancing\, this is only available for pets that can be safely taken outdoors. \n1st Place Prize (16)\nNEW THIS YEAR – as this year’s calendar will be a 16-month calendar\, the next 16 pets with the most votes will have their photo featured for a specific month on a half-page of the calendar (½ page\, above-the-fold). \n2nd Place Prize (32)\nNEW THIS YEAR – the next 32 pets with the most votes will have their photo featured for a specific month on a quarter-page of the calendar (1/4 page\, above-the-fold). \nEveryone’s A Winner!\nThe remaining pets will be featured in order of votes received. No matter how many votes your pet receives\, they will be a part of the calendar!
URL:https://www.awla.org/event/awla-calendar-contest/
CATEGORIES:Fundraiser
END:VEVENT
BEGIN:VEVENT
DTSTART;TZID=America/New_York:20200605T120000
DTEND;TZID=America/New_York:20200607T160000
DTSTAMP:20260424T201807
CREATED:20200604T162607Z
LAST-MODIFIED:20201030T165252Z
UID:10002254-1591358400-1591545600@www.awla.org
SUMMARY:National Adoption Weekend
DESCRIPTION:We are proud to be partnering with ASPCA to celebrate National Adoption Weekend from June 5-7! \nAWLA will be offering half-off adoption fees for select pets – look for a heart on our pets’ profile photos to see who is eligible for a discount! \nLearn more about our virtual adoption process here: www.awla.org/adopt/adoption-process/
URL:https://www.awla.org/event/national-adoption-weekend/
CATEGORIES:Adoption
END:VEVENT
BEGIN:VEVENT
DTSTART;TZID=America/New_York:20200606T110000
DTEND;TZID=America/New_York:20200606T120000
DTSTAMP:20260424T201807
CREATED:20200602T143740Z
LAST-MODIFIED:20201030T165233Z
UID:10002252-1591441200-1591444800@www.awla.org
SUMMARY:Virtual Smarty Pets: Going Back To Work
DESCRIPTION:
URL:https://www.awla.org/event/virtual-smarty-pets-going-back-to-work/
CATEGORIES:Educational Programs,Free Educational Programs,Smarty Pets
END:VEVENT
BEGIN:VEVENT
DTSTART;TZID=America/New_York:20200611T180000
DTEND;TZID=America/New_York:20200611T190000
DTSTAMP:20260424T201807
CREATED:20200603T165502Z
LAST-MODIFIED:20201030T164642Z
UID:10002253-1591898400-1591902000@www.awla.org
SUMMARY:Virtual Smarty Pets: Reactive Dog Behavior
DESCRIPTION:
URL:https://www.awla.org/event/virtual-smarty-pets-reactive-dog-behavior/
CATEGORIES:Educational Programs,Free Educational Programs,Smarty Pets
END:VEVENT
BEGIN:VEVENT
DTSTART;TZID=America/New_York:20200618T123000
DTEND;TZID=America/New_York:20200618T133000
DTSTAMP:20260424T201807
CREATED:20200527T193600Z
LAST-MODIFIED:20201030T164628Z
UID:10002250-1592483400-1592487000@www.awla.org
SUMMARY:Smarty Pets for Kids: Becoming a Veterinarian
DESCRIPTION:
URL:https://www.awla.org/event/smarty-pets-for-kids-becoming-a-veterinarian/
CATEGORIES:Educational Programs,Free Educational Programs,Kids Educational Programs,Smarty Pets
END:VEVENT
END:VCALENDAR