BEGIN:VCALENDAR
VERSION:2.0
PRODID:-//Animal Welfare League of Arlington - ECPv6.15.17//NONSGML v1.0//EN
CALSCALE:GREGORIAN
METHOD:PUBLISH
X-ORIGINAL-URL:https://www.awla.org
X-WR-CALDESC:Events for Animal Welfare League of Arlington
REFRESH-INTERVAL;VALUE=DURATION:PT1H
X-Robots-Tag:noindex
X-PUBLISHED-TTL:PT1H
BEGIN:VTIMEZONE
TZID:America/New_York
BEGIN:DAYLIGHT
TZOFFSETFROM:-0500
TZOFFSETTO:-0400
TZNAME:EDT
DTSTART:20190310T070000
END:DAYLIGHT
BEGIN:STANDARD
TZOFFSETFROM:-0400
TZOFFSETTO:-0500
TZNAME:EST
DTSTART:20191103T060000
END:STANDARD
BEGIN:DAYLIGHT
TZOFFSETFROM:-0500
TZOFFSETTO:-0400
TZNAME:EDT
DTSTART:20200308T070000
END:DAYLIGHT
BEGIN:STANDARD
TZOFFSETFROM:-0400
TZOFFSETTO:-0500
TZNAME:EST
DTSTART:20201101T060000
END:STANDARD
BEGIN:DAYLIGHT
TZOFFSETFROM:-0500
TZOFFSETTO:-0400
TZNAME:EDT
DTSTART:20210314T070000
END:DAYLIGHT
BEGIN:STANDARD
TZOFFSETFROM:-0400
TZOFFSETTO:-0500
TZNAME:EST
DTSTART:20211107T060000
END:STANDARD
END:VTIMEZONE
BEGIN:VEVENT
DTSTART;VALUE=DATE:20201201
DTEND;VALUE=DATE:20201202
DTSTAMP:20260424T171549
CREATED:20201123T154911Z
LAST-MODIFIED:20201201T024215Z
UID:10002408-1606780800-1606867199@www.awla.org
SUMMARY:Giving Tuesday
DESCRIPTION:GivingTuesday was created with a simple idea in mind: a day that encourages people to do good.\nPeople can show their generosity in lots of ways during GivingTuesday—from helping a neighbor\, advocating for an issue\, sharing a skill\, or giving to causes—because every act of generosity counts. \nDonate Now
URL:https://www.awla.org/event/giving-tuesday-2020/
CATEGORIES:Fundraiser
ATTACH;FMTTYPE=image/png:https://www.awla.org/wp-content/uploads/2020/11/GT-featured-event.png
END:VEVENT
BEGIN:VEVENT
DTSTART;TZID=America/New_York:20201201T180000
DTEND;TZID=America/New_York:20201201T190000
DTSTAMP:20260424T171549
CREATED:20201113T203828Z
LAST-MODIFIED:20201113T203828Z
UID:10002406-1606845600-1606849200@www.awla.org
SUMMARY:Cat Enrichment 101
DESCRIPTION:
URL:https://www.awla.org/event/cat-enrichment-101/
CATEGORIES:Educational Programs,Free Educational Programs,Smarty Pets
ATTACH;FMTTYPE=image/jpeg:https://www.awla.org/wp-content/uploads/2020/11/cat-enrichment.jpg
END:VEVENT
BEGIN:VEVENT
DTSTART;TZID=America/New_York:20201203T183000
DTEND;TZID=America/New_York:20201203T203000
DTSTAMP:20260424T171549
CREATED:20191205T164709Z
LAST-MODIFIED:20201123T180058Z
UID:10002365-1607020200-1607027400@www.awla.org
SUMMARY:CANCELED - Rabies & Microchip Clinic
DESCRIPTION:Unfortunately\, due to rising COVID cases in our area\, we have decided to cancel our December clinic. We hope to hold our next clinic in February\, 2021. If you are in need of clinic services before that time\, please click here.  \nClick here to learn more about our Low-Cost Rabies & Microchip Clinics.
URL:https://www.awla.org/event/rabies-microchip-clinic-dec-2020/
CATEGORIES:Clinics
ATTACH;FMTTYPE=image/jpeg:https://www.awla.org/wp-content/uploads/2020/07/AWLA_Clinic_06252020-6035-1-e1605202885593.jpg
END:VEVENT
BEGIN:VEVENT
DTSTART;TZID=America/New_York:20201217T180000
DTEND;TZID=America/New_York:20201217T190000
DTSTAMP:20260424T171549
CREATED:20201117T142714Z
LAST-MODIFIED:20201117T142714Z
UID:10002407-1608228000-1608231600@www.awla.org
SUMMARY:Holiday Yappy Hour
DESCRIPTION:
URL:https://www.awla.org/event/holiday-yappy-hour/
CATEGORIES:Fundraiser
ATTACH;FMTTYPE=image/png:https://www.awla.org/wp-content/uploads/2020/11/snow.png
ORGANIZER;CN="Animal Welfare League of Arlington":MAILTO:hdickman@awla.org
END:VEVENT
BEGIN:VEVENT
DTSTART;TZID=America/New_York:20201224T090000
DTEND;TZID=America/New_York:20201224T120000
DTSTAMP:20260424T171549
CREATED:20201214T192256Z
LAST-MODIFIED:20201214T201839Z
UID:10002425-1608800400-1608811200@www.awla.org
SUMMARY:Pet Pantry Holiday Deliveries
DESCRIPTION:This year\, we are making special pet pantry deliveries to pet families in need of a little holiday cheer! Packages of food and other supplies will be dropped off at our client’s doors by our Pet Pantry elves. \nAny and all residents of Arlington County and Falls Church City can sign up for delivery. \nClick here to sign up! \n 
URL:https://www.awla.org/event/pet-pantry-holiday-deliveries/
CATEGORIES:AWLA in the Community
ATTACH;FMTTYPE=image/png:https://www.awla.org/wp-content/uploads/2020/12/pawliday-featured-1.png
END:VEVENT
END:VCALENDAR