BEGIN:VCALENDAR
VERSION:2.0
PRODID:-//Animal Welfare League of Arlington - ECPv6.15.17//NONSGML v1.0//EN
CALSCALE:GREGORIAN
METHOD:PUBLISH
X-ORIGINAL-URL:https://www.awla.org
X-WR-CALDESC:Events for Animal Welfare League of Arlington
REFRESH-INTERVAL;VALUE=DURATION:PT1H
X-Robots-Tag:noindex
X-PUBLISHED-TTL:PT1H
BEGIN:VTIMEZONE
TZID:America/New_York
BEGIN:DAYLIGHT
TZOFFSETFROM:-0500
TZOFFSETTO:-0400
TZNAME:EDT
DTSTART:20200308T070000
END:DAYLIGHT
BEGIN:STANDARD
TZOFFSETFROM:-0400
TZOFFSETTO:-0500
TZNAME:EST
DTSTART:20201101T060000
END:STANDARD
BEGIN:DAYLIGHT
TZOFFSETFROM:-0500
TZOFFSETTO:-0400
TZNAME:EDT
DTSTART:20210314T070000
END:DAYLIGHT
BEGIN:STANDARD
TZOFFSETFROM:-0400
TZOFFSETTO:-0500
TZNAME:EST
DTSTART:20211107T060000
END:STANDARD
BEGIN:DAYLIGHT
TZOFFSETFROM:-0500
TZOFFSETTO:-0400
TZNAME:EDT
DTSTART:20220313T070000
END:DAYLIGHT
BEGIN:STANDARD
TZOFFSETFROM:-0400
TZOFFSETTO:-0500
TZNAME:EST
DTSTART:20221106T060000
END:STANDARD
END:VTIMEZONE
BEGIN:VEVENT
DTSTART;TZID=America/New_York:20210210T120000
DTEND;TZID=America/New_York:20210216T180000
DTSTAMP:20260424T165351
CREATED:20210203T210138Z
LAST-MODIFIED:20210203T210539Z
UID:10002440-1612958400-1613498400@www.awla.org
SUMMARY:Mardi Gras Adoption Week
DESCRIPTION:Laissez les bons temps rouler!\n\nIt’s the perfect time to bring home your very own Mardi Gras king or queen!\nFrom Wednesday\, February 10th to Tuesday\, February 16\, we are offering FREE adoption fees for all adult cats*. So put on your beads\, grab a slice of king cake and get ready to let the good times roll! \nMeet our adoptable cats \n*Adult cats are aged six months and older. Standard adoption policies and procedures apply. 
URL:https://www.awla.org/event/mardi-gras-adoption-week/
LOCATION:Virtual
CATEGORIES:Adoption
ATTACH;FMTTYPE=image/png:https://www.awla.org/wp-content/uploads/2021/02/Copy-of-mardi-gras-adoption-week-1.png
ORGANIZER;CN="Animal Welfare League of Arlington":MAILTO:hdickman@awla.org
END:VEVENT
BEGIN:VEVENT
DTSTART;TZID=America/New_York:20210210T170000
DTEND;TZID=America/New_York:20210210T180000
DTSTAMP:20260424T165351
CREATED:20201203T184340Z
LAST-MODIFIED:20201203T184340Z
UID:10002411-1612976400-1612980000@www.awla.org
SUMMARY:Kids Workshop: Dogs
DESCRIPTION:Learn all about Man’s Best Friend! This presentation will cover the origin of dogs\, dog behavior and senses\, along with safety\, fun sports you can do with them\, and more. \nSign Up Now\n  \nAWLA is now hosting monthly AWLA Kids Workshops for kids in 4th – 8th grade in which families can pick and choose what topics their kids can learn about. Join us for monthly virtual workshops\, where your child can join us on Zoom and learn about a topic that truly interests them. Each lesson will have a chosen topic in which the children will learn about through fun and interactive presentations and games. The virtual lesson will conclude with a visit from a special furry friend. There will be a rolling registration throughout the year with the initial registration opening in mid-November. Workshops will run from January through October. Because we never want finances as a reason for your child to not participate in the fun\, we also provide a small number of scholarships for this program.  \nIf you have any questions about this program or about the scholarships\, please email Karyn Orth\, Humane Educator\, at korth@awla.org.
URL:https://www.awla.org/event/kids-workshop-dogs/
CATEGORIES:Kids Educational Programs
END:VEVENT
BEGIN:VEVENT
DTSTART;TZID=America/New_York:20210211T180000
DTEND;TZID=America/New_York:20210211T190000
DTSTAMP:20260424T165351
CREATED:20210122T172442Z
LAST-MODIFIED:20210122T172442Z
UID:10002435-1613066400-1613070000@www.awla.org
SUMMARY:Smarty Pets: Cat Weight Management
DESCRIPTION:
URL:https://www.awla.org/event/smarty-pets-cat-weight-management/
LOCATION:Virtual
CATEGORIES:Smarty Pets
END:VEVENT
BEGIN:VEVENT
DTSTART;TZID=America/New_York:20210213T090000
DTEND;TZID=America/New_York:20210213T110000
DTSTAMP:20260424T165351
CREATED:20210121T203218Z
LAST-MODIFIED:20210212T184110Z
UID:10002433-1613206800-1613214000@www.awla.org
SUMMARY:FULL - Pet Pantry Delivery Day
DESCRIPTION:Pet Pantry Delivery Day\nAWLA’s goal is to keep pets with their families by providing pet care essentials including food\, enrichment items\, preventatives\, and more. Residents of Arlington County and Falls Church City may pick up items from the shelter during our regular business hours. There are no income requirements or forms to fill out – if you need assistance\, we are here to help! \nFor residents physically unable to pick up pet supplies at the shelter\, AWLA offers a select number of delivery days where supplies can be dropped off at your home. Our February delivery day is Saturday\, February 13 from 9am-11am. The sign-up form below will open on Saturday\, February 6\, and will close when we reach capacity. \nOur Pet Pantry is stocked and supported by generous donations. We cannot guarantee what particular items will be available for distribution on the day of the event. We will do our best to provide as many meals as possible on the day of the deliveries. \n\nRequirements:\n\nYou must live in Arlington County or the City of Falls Church.\nDelivery days are reserved for those who cannot physically get to the shelter\, or do not have a friend/family member to do so for them. If you are physically able to pick up food from the shelter\, please do so.\nAn adult (18 years old +) must be at your home and available between 9am and 11am on this date to receive supplies.\nYou must have a working phone number that our volunteers can call if they have trouble with the delivery.\nAt this time this event is only providing supplies for cats and dogs.\n\nIf you have further questions about this event\, please email Ashley Hay at communitysupport@awla.org. Thank you! \nLoading…
URL:https://www.awla.org/event/pet-pantry-delivery-day/
CATEGORIES:AWLA in the Community
ORGANIZER;CN="Animal Welfare League of Arlington":MAILTO:hdickman@awla.org
END:VEVENT
BEGIN:VEVENT
DTSTART;TZID=America/New_York:20210226T140000
DTEND;TZID=America/New_York:20210226T170000
DTSTAMP:20260424T165351
CREATED:20210108T190602Z
LAST-MODIFIED:20210120T001838Z
UID:10002430-1614348000-1614358800@www.awla.org
SUMMARY:VA SART: Emergency Pet Sheltering Course (Module A)
DESCRIPTION:You’re invited to join AWLA and Virginia SART for the first module in the Emergency Pet Sheltering Course offered virtually through Zoom! All individuals are welcome\, as varied skills and resources are needed. \nThrough Virginia SART\, Community Animal Response Teams are tasked with providing professional response and sheltering for animals in an emergency. Volunteers are needed for these teams that can be called on to help provide support during emergencies. \nDuring this module\, we will discuss pet disaster preparedness\, emergency operation plans\, the incident command system\, and health and safety. \nThis course is FREE to attend! \nClick here to register
URL:https://www.awla.org/event/emergency-pet-sheltering/
LOCATION:Virtual
ORGANIZER;CN="Animal Welfare League of Arlington":MAILTO:hdickman@awla.org
END:VEVENT
END:VCALENDAR