BEGIN:VCALENDAR
VERSION:2.0
PRODID:-//Animal Welfare League of Arlington - ECPv6.15.17//NONSGML v1.0//EN
CALSCALE:GREGORIAN
METHOD:PUBLISH
X-WR-CALNAME:Animal Welfare League of Arlington
X-ORIGINAL-URL:https://www.awla.org
X-WR-CALDESC:Events for Animal Welfare League of Arlington
REFRESH-INTERVAL;VALUE=DURATION:PT1H
X-Robots-Tag:noindex
X-PUBLISHED-TTL:PT1H
BEGIN:VTIMEZONE
TZID:America/New_York
BEGIN:DAYLIGHT
TZOFFSETFROM:-0500
TZOFFSETTO:-0400
TZNAME:EDT
DTSTART:20200308T070000
END:DAYLIGHT
BEGIN:STANDARD
TZOFFSETFROM:-0400
TZOFFSETTO:-0500
TZNAME:EST
DTSTART:20201101T060000
END:STANDARD
BEGIN:DAYLIGHT
TZOFFSETFROM:-0500
TZOFFSETTO:-0400
TZNAME:EDT
DTSTART:20210314T070000
END:DAYLIGHT
BEGIN:STANDARD
TZOFFSETFROM:-0400
TZOFFSETTO:-0500
TZNAME:EST
DTSTART:20211107T060000
END:STANDARD
BEGIN:DAYLIGHT
TZOFFSETFROM:-0500
TZOFFSETTO:-0400
TZNAME:EDT
DTSTART:20220313T070000
END:DAYLIGHT
BEGIN:STANDARD
TZOFFSETFROM:-0400
TZOFFSETTO:-0500
TZNAME:EST
DTSTART:20221106T060000
END:STANDARD
END:VTIMEZONE
BEGIN:VEVENT
DTSTART;TZID=America/New_York:20210301T080000
DTEND;TZID=America/New_York:20210308T170000
DTSTAMP:20260424T151156
CREATED:20210226T201832Z
LAST-MODIFIED:20210226T201832Z
UID:10002442-1614585600-1615222800@www.awla.org
SUMMARY:AWLA Zoomies!
DESCRIPTION:
URL:https://www.awla.org/event/awla-zoomies/
LOCATION:Virtual
CATEGORIES:Fundraiser
END:VEVENT
BEGIN:VEVENT
DTSTART;TZID=America/New_York:20210308T180000
DTEND;TZID=America/New_York:20210308T210000
DTSTAMP:20260424T151156
CREATED:20210127T231204Z
LAST-MODIFIED:20210304T150057Z
UID:10002439-1615226400-1615237200@www.awla.org
SUMMARY:Microchip Madness Cat Clinic
DESCRIPTION:On March 8th\, 2021\, AWLA will be hosting a microchip-only clinic for cats owned by residents of Arlington County and its neighbors! The Microchip Madness Cat Clinic will provide free microchips (including chip registration) to cat owners in Arlington and neighboring counties. \n\nAs part of the Maddie’s Fund No Place Like Home Challenge\, we are promoting ways to reunite lost pets with their families. Microchipping your pets is the best and most efficient way to give your pet the best chance of finding their way home if they ever become lost. During the month of March\, we are focusing on our feline community\, as 34% of cats nationwide are never reunited with their families (compared to 6% of dogs). \n\n\n\n*This clinic is for cats only and we cannot provide any other services (such as vaccines). For more information on our Low-Cost Rabies & Microchip Clinic\, click here!* \n  \n\nLoading…
URL:https://www.awla.org/event/microchip-madness-cat-clinic/
LOCATION:Animal Welfare League of Arlington\, 2650 S Arlington Mill Dr\, Arlington\, VA\, 22206\, United States
CATEGORIES:Clinics
ATTACH;FMTTYPE=image/png:https://www.awla.org/wp-content/uploads/2021/01/Copy-of-march-meowdness-microchip-clinic.png
ORGANIZER;CN="Animal Welfare League of Arlington":MAILTO:hdickman@awla.org
END:VEVENT
BEGIN:VEVENT
DTSTART;TZID=America/New_York:20210309T180000
DTEND;TZID=America/New_York:20210309T190000
DTSTAMP:20260424T151156
CREATED:20210125T162320Z
LAST-MODIFIED:20210125T162320Z
UID:10002436-1615312800-1615316400@www.awla.org
SUMMARY:Smarty Pets: Bunny Basics
DESCRIPTION:
URL:https://www.awla.org/event/smarty-pets-bunny-basics/
LOCATION:Virtual
CATEGORIES:Educational Programs,Smarty Pets
END:VEVENT
BEGIN:VEVENT
DTSTART;TZID=America/New_York:20210311T170000
DTEND;TZID=America/New_York:20210311T180000
DTSTAMP:20260424T151156
CREATED:20201203T184530Z
LAST-MODIFIED:20201203T184530Z
UID:10002412-1615482000-1615485600@www.awla.org
SUMMARY:Kids Workshop: Piggie Palooza
DESCRIPTION:Come learn about one of the greatest small animal pets you can adopt – guinea pigs! Kids will learn all about these fascinating rodents including their care\, fun personalities\, and more. \nSign Up Now\n  \n\nAWLA is now hosting monthly AWLA Kids Workshops for kids in 4th – 8th grade in which families can pick and choose what topics their kids can learn about. Join us for monthly virtual workshops\, where your child can join us on Zoom and learn about a topic that truly interests them. Each lesson will have a chosen topic in which the children will learn about through fun and interactive presentations and games. The virtual lesson will conclude with a visit from a special furry friend. There will be a rolling registration throughout the year with the initial registration opening in mid-November. Workshops will run from January through October. Because we never want finances as a reason for your child to not participate in the fun\, we also provide a small number of scholarships for this program.  \nIf you have any questions about this program or about the scholarships\, please email Karyn Orth\, Humane Educator\, at korth@awla.org.
URL:https://www.awla.org/event/kids-workshop-piggie-palooza/
CATEGORIES:Kids Educational Programs
END:VEVENT
BEGIN:VEVENT
DTSTART;TZID=America/New_York:20210313T090000
DTEND;TZID=America/New_York:20210313T110000
DTSTAMP:20260424T151156
CREATED:20210127T173923Z
LAST-MODIFIED:20210127T173923Z
UID:10002437-1615626000-1615633200@www.awla.org
SUMMARY:Pet Pantry Delivery Day
DESCRIPTION:Pet Pantry Delivery Day\nAWLA’s goal is to keep pets with their families by providing pet care essentials including food\, enrichment items\, preventatives\, and more. Residents of Arlington County and Falls Church City may pick up items from the shelter during our regular business hours. There are no income requirements or forms to fill out – if you need assistance\, we are here to help! \nFor residents physically unable to pick up pet supplies at the shelter\, AWLA offers a select number of delivery days where supplies can be dropped off at your home. Our March delivery day is Saturday\, March 13 from 9am-11am. The sign-up form below will open on Saturday\, March 6\, and will close when we reach capacity. \nOur Pet Pantry is stocked and supported by generous donations. We cannot guarantee what particular items will be available for distribution on the day of the event. We will do our best to provide as many meals as possible on the day of the deliveries. \n\nRequirements:\n\nYou must live in Arlington County or the City of Falls Church.\nDelivery days are reserved for those who cannot physically get to the shelter\, or do not have a friend/family member to do so for them. If you are physically able to pick up food from the shelter\, please do so.\nAn adult (18 years old +) must be at your home and available between 9am and 11am on this date to receive supplies.\nYou must have a working phone number that our volunteers can call if they have trouble with the delivery.\nAt this time this event is only providing supplies for cats and dogs.\n\nIf you have further questions about this event\, please email Ashley Hay at communitysupport@awla.org. Thank you! \nLoading…
URL:https://www.awla.org/event/pet-pantry-delivery-day-2/
CATEGORIES:AWLA in the Community
END:VEVENT
BEGIN:VEVENT
DTSTART;TZID=America/New_York:20210317T120000
DTEND;TZID=America/New_York:20210322T180000
DTSTAMP:20260424T151156
CREATED:20210310T211340Z
LAST-MODIFIED:20210310T212358Z
UID:10002446-1615982400-1616436000@www.awla.org
SUMMARY:Adopt an Awkward Roommate
DESCRIPTION:  \nAWLA is offering 50% adoption fees for adult cats* from March 17-22! \nRoommates – they steal your food\, don’t respect your boundaries\, and leave fur everywhere! We all know that having a cat is just like having a really awkward roommate…and boy\, do we love them for it. From March 17-22\, you can adopt your very own awkward feline roommate for 50% off their adoption fee. Get ready to bring home a new roomie in all their goofy\, ridiculous\, awkward glory! \nFind My New Roomie \n*Adults cats are cats aged 6 months and older
URL:https://www.awla.org/event/adopt-an-awkward-roommate/
LOCATION:Virtual
CATEGORIES:Adoption
END:VEVENT
BEGIN:VEVENT
DTSTART;TZID=America/New_York:20210321T100000
DTEND;TZID=America/New_York:20210321T110000
DTSTAMP:20260424T151156
CREATED:20210208T170713Z
LAST-MODIFIED:20210303T162041Z
UID:10002441-1616320800-1616324400@www.awla.org
SUMMARY:Pet Yoga with Elina
DESCRIPTION:Fitness instructor Elina\, of Elina from Sweden\, is hosting a special yoga class to benefit AWLA! We will be joining virtually with some of our shelter pets\, and of course\, your own pets are welcome to join in your workout! Click here to learn more and get your tickets!
URL:https://www.awla.org/event/pet-yoga-with-elina/
LOCATION:Virtual
CATEGORIES:Fundraiser
END:VEVENT
END:VCALENDAR