BEGIN:VCALENDAR
VERSION:2.0
PRODID:-//Animal Welfare League of Arlington - ECPv6.15.17//NONSGML v1.0//EN
CALSCALE:GREGORIAN
METHOD:PUBLISH
X-ORIGINAL-URL:https://www.awla.org
X-WR-CALDESC:Events for Animal Welfare League of Arlington
REFRESH-INTERVAL;VALUE=DURATION:PT1H
X-Robots-Tag:noindex
X-PUBLISHED-TTL:PT1H
BEGIN:VTIMEZONE
TZID:America/New_York
BEGIN:DAYLIGHT
TZOFFSETFROM:-0500
TZOFFSETTO:-0400
TZNAME:EDT
DTSTART:20200308T070000
END:DAYLIGHT
BEGIN:STANDARD
TZOFFSETFROM:-0400
TZOFFSETTO:-0500
TZNAME:EST
DTSTART:20201101T060000
END:STANDARD
BEGIN:DAYLIGHT
TZOFFSETFROM:-0500
TZOFFSETTO:-0400
TZNAME:EDT
DTSTART:20210314T070000
END:DAYLIGHT
BEGIN:STANDARD
TZOFFSETFROM:-0400
TZOFFSETTO:-0500
TZNAME:EST
DTSTART:20211107T060000
END:STANDARD
BEGIN:DAYLIGHT
TZOFFSETFROM:-0500
TZOFFSETTO:-0400
TZNAME:EDT
DTSTART:20220313T070000
END:DAYLIGHT
BEGIN:STANDARD
TZOFFSETFROM:-0400
TZOFFSETTO:-0500
TZNAME:EST
DTSTART:20221106T060000
END:STANDARD
END:VTIMEZONE
BEGIN:VEVENT
DTSTART;TZID=America/New_York:20210510T170000
DTEND;TZID=America/New_York:20210510T180000
DTSTAMP:20260424T151217
CREATED:20201203T185000Z
LAST-MODIFIED:20210315T200151Z
UID:10002414-1620666000-1620669600@www.awla.org
SUMMARY:Kids Workshop: Wild Babies
DESCRIPTION:Learn all about the new wildlife you might be seeing in your own backyard\, from fawns and bunnies to birds and squirrels. Learn all about the needs of these animals in addition to understanding when they need help from humans.\n \nSign Up Now\n  \n\nAWLA is now hosting monthly AWLA Workshops in which families can pick and choose what topics their kids can learn about. Join us for monthly virtual workshops\, where your child can join us on Zoom and learn about a topic that truly interests them. Each lesson will have a chosen topic in which the children will learn about through fun and interactive presentations and games. The virtual lesson will conclude with a visit from a special furry friend. There will be a rolling registration throughout the year with the initial registration opening in mid-November. Workshops will run from January through October. Because we never want finances as a reason for your child to not participate in the fun\, we also provide a small number of scholarships for this program.  \nIf you have any questions about this program or about the scholarships\, please email Karyn Orth\, Humane Educator\, at korth@awla.org.
URL:https://www.awla.org/event/kids-workshop-wild-babies/
CATEGORIES:Kids Educational Programs
END:VEVENT
BEGIN:VEVENT
DTSTART;TZID=America/New_York:20210518T190000
DTEND;TZID=America/New_York:20210518T203000
DTSTAMP:20260424T151217
CREATED:20210412T221521Z
LAST-MODIFIED:20210427T162012Z
UID:10002291-1621364400-1621369800@www.awla.org
SUMMARY:Stand-Pup Comedy Show
DESCRIPTION:Dogs\, Cats\, and Comedians – It’s Stand Pup Comedy Online! A fun online event in support of our mission starring celebrity comedians\, adoptable pets\, and YOU! Past performers have been seen on The Office\, Seinfeld\, America’s Got Talent\, Comedy Central\, Conan\, and many more! \nPawformers include:\n\nMark Normand from The Tonight Show\nDana Eagle from Last Comic Standing\nLaura House from HBO & Comedy Central\nJason Cheny from Laughs on Fox\, Hulu & TruTV\nKatrina Davis from America’s Got Talent\n\nTickets are $20 ($25 day of show) and 50% of proceeds will go directly to AWLA using the ticket link below or mention AWLA at checkout! \nGet my tickets! \nThe zoom link for the event will be emailed on the day of the show. The event is for mature audiences. Refunds will not be issued unless the show is canceled by the producer. Events are subject to change and cancellation.
URL:https://www.awla.org/event/stand-pup-comedy-show/
LOCATION:Virtual
CATEGORIES:Fundraiser
END:VEVENT
BEGIN:VEVENT
DTSTART;TZID=America/New_York:20210520T120000
DTEND;TZID=America/New_York:20210523T170000
DTSTAMP:20260424T151217
CREATED:20210517T184537Z
LAST-MODIFIED:20210517T184537Z
UID:10002302-1621512000-1621789200@www.awla.org
SUMMARY:National Rescue Dog Day Adoption Event
DESCRIPTION:  \nFrom Thursday\, May 20 to Sunday\, May 23\, AWLA is offering 50% off dog adoption fees* in honor of National Rescue Dog Day!  \nStandard adoption policies and procedures apply. *Discount offered for all adult dogs over six months old.  \nMeet Your New Best Friend \n  \nCan’t adopt but want to sponsor a dog’s adoption fee during the event? Email adoptions@awla.org!
URL:https://www.awla.org/event/national-rescue-dog-day/
LOCATION:Animal Welfare League of Arlington\, 2650 S Arlington Mill Dr\, Arlington\, VA\, 22206\, United States
CATEGORIES:Adoption
END:VEVENT
BEGIN:VEVENT
DTSTART;TZID=America/New_York:20210520T180000
DTEND;TZID=America/New_York:20210520T190000
DTSTAMP:20260424T151217
CREATED:20210326T174318Z
LAST-MODIFIED:20210326T174318Z
UID:10002287-1621533600-1621537200@www.awla.org
SUMMARY:Smarty Pets: Beekeeping Basics
DESCRIPTION:
URL:https://www.awla.org/event/smarty-pets-beekeeping-basics/
LOCATION:Virtual
END:VEVENT
END:VCALENDAR