BEGIN:VCALENDAR
VERSION:2.0
PRODID:-//Animal Welfare League of Arlington - ECPv6.15.17//NONSGML v1.0//EN
CALSCALE:GREGORIAN
METHOD:PUBLISH
X-WR-CALNAME:Animal Welfare League of Arlington
X-ORIGINAL-URL:https://www.awla.org
X-WR-CALDESC:Events for Animal Welfare League of Arlington
REFRESH-INTERVAL;VALUE=DURATION:PT1H
X-Robots-Tag:noindex
X-PUBLISHED-TTL:PT1H
BEGIN:VTIMEZONE
TZID:America/New_York
BEGIN:DAYLIGHT
TZOFFSETFROM:-0500
TZOFFSETTO:-0400
TZNAME:EDT
DTSTART:20210314T070000
END:DAYLIGHT
BEGIN:STANDARD
TZOFFSETFROM:-0400
TZOFFSETTO:-0500
TZNAME:EST
DTSTART:20211107T060000
END:STANDARD
BEGIN:DAYLIGHT
TZOFFSETFROM:-0500
TZOFFSETTO:-0400
TZNAME:EDT
DTSTART:20220313T070000
END:DAYLIGHT
BEGIN:STANDARD
TZOFFSETFROM:-0400
TZOFFSETTO:-0500
TZNAME:EST
DTSTART:20221106T060000
END:STANDARD
BEGIN:DAYLIGHT
TZOFFSETFROM:-0500
TZOFFSETTO:-0400
TZNAME:EDT
DTSTART:20230312T070000
END:DAYLIGHT
BEGIN:STANDARD
TZOFFSETFROM:-0400
TZOFFSETTO:-0500
TZNAME:EST
DTSTART:20231105T060000
END:STANDARD
END:VTIMEZONE
BEGIN:VEVENT
DTSTART;TZID=America/New_York:20220601T080000
DTEND;TZID=America/New_York:20220615T170000
DTSTAMP:20260424T193810
CREATED:20220420T180422Z
LAST-MODIFIED:20220420T180544Z
UID:10002507-1654070400-1655312400@www.awla.org
SUMMARY:Calendar Contest
DESCRIPTION:Now is your chance to give your pet the ultimate spotlight with their photo on the cover of our 2022/2023 16-month calendar!\nEach photo entry and vote equals life-saving funds that care for animals in need. From tiny kittens\, senior pups\, injured wildlife\, pet parents in need\, and everything in between\, your support guides us on our mission to improve the lives of pets and people in Arlington County. \nSo what are you waiting for? Scroll through the 300 pictures of your pet on your camera roll to find the perfect shot\, or get the camera and treats out and start snapping. May the cutest pet win! \nMake my pet a superstar! \nClick the button above for more info and to enter your pet in this year’s contest.
URL:https://www.awla.org/event/calendar-contest/
CATEGORIES:Fundraiser
END:VEVENT
BEGIN:VEVENT
DTSTART;TZID=America/New_York:20220605T130000
DTEND;TZID=America/New_York:20220605T170000
DTSTAMP:20260424T193810
CREATED:20220502T174255Z
LAST-MODIFIED:20220502T174255Z
UID:10002508-1654434000-1654448400@www.awla.org
SUMMARY:AWLA's Birthday Bash
DESCRIPTION:
URL:https://www.awla.org/event/awlas-birthday-bash/
CATEGORIES:Fundraiser
END:VEVENT
BEGIN:VEVENT
DTSTART;TZID=America/New_York:20220609T180000
DTEND;TZID=America/New_York:20220609T190000
DTSTAMP:20260424T193810
CREATED:20220519T163647Z
LAST-MODIFIED:20220519T163647Z
UID:10002509-1654797600-1654801200@www.awla.org
SUMMARY:Smarty Pets: Barking Basics
DESCRIPTION:
URL:https://www.awla.org/event/smarty-pets-barking-basics/
LOCATION:Virtual
CATEGORIES:Smarty Pets
END:VEVENT
BEGIN:VEVENT
DTSTART;TZID=America/New_York:20220616T183000
DTEND;TZID=America/New_York:20220616T203000
DTSTAMP:20260424T193810
CREATED:20220104T153928Z
LAST-MODIFIED:20230426T154613Z
UID:10002487-1655404200-1655411400@www.awla.org
SUMMARY:Low-Cost Vaccine & Microchip Clinic
DESCRIPTION:Get your pets their vaccines or a microchip at AWLA!  \nAWLA offers rabies vaccines\, distemper vaccines (DAPPv for dogs and HCPCh for cats)\, and microchips for cats and dogs. \nThese clinics are by reservation only. You must sign up in advance for a designated time. \n\nRabies shots are $10\, distemper shots are FREE (thanks to PetCo Love) and microchips are $35.\nNO CASH\, card payment only.\nAll humans must wear a mask at all times and maintain at appropriate distances of at least 6 feet in all situations.\nIf you arrive after your designated time\, you will lose your spot.\nAll dogs must be on a leash\, and all cats in carriers. Retractable leashes are not allowed.\nIf your pet is reactive to humans or other animals\, please do not sign up for this clinic. We ask that you seek advice from a veterinarian.\nThe clinic is indoors in the AWLA Education Room. Waiting is outside\, so please dress appropriately for the weather.\nIf you want a three-year rabies shot\, you must bring proof of prior rabies shot (vet records or rabies certificates only\, or dog licenses only\, tags do not count).\nDistemper shots are based on the age\, and vaccine history of each pet. If you do not bring proof your pet has received this vaccine before and is not past due\, they will need a booster in 2-4 weeks.\nWe do not offer 3 year distemper shots.\n\nAll paperwork for this clinic will be done at the clinic. \nAdditional Information About Rabies Vaccinations\nVirginia law requires that all dogs and cats four months of age and older have a current rabies vaccine. Please bring proof of a prior rabies shot (a rabies certificate\, not a tag) to get a three-year rabies shot. Without it\, your pet will receive a one-year shot. All dogs must be on leashes and cats must be in carriers. \nAdditional Information About Microchipping\nGive your pet the protection of a 24PetWatch MiniChip. Each year thousands of lost and abandoned animals are taken in by shelters and humane societies across the country. Some of these animals never make it home because they cannot be identified. Microchipping offers the only truly permanent method of identifying your pet and linking the animal back to you\, the owner. \n*Dates are subject to change at the discretion of AWLA
URL:https://www.awla.org/event/low-cost-vaccine-microchip-clinic-5/
CATEGORIES:Clinics
END:VEVENT
BEGIN:VEVENT
DTSTART;TZID=America/New_York:20220618T100000
DTEND;TZID=America/New_York:20220618T120000
DTSTAMP:20260424T193810
CREATED:20220603T194124Z
LAST-MODIFIED:20220609T134219Z
UID:10002510-1655546400-1655553600@www.awla.org
SUMMARY:Community Care Clinic
DESCRIPTION:AWLA’s Community Care Clinics provide veterinary wellness exams\, vaccines\, flea and tick preventatives\, supplies\, and more for your pet. We also provide a variety of wellness services for the whole family! Please pre-register below.\n  \nRegistration (English)      Inscripción (Espanol)
URL:https://www.awla.org/event/community-care-clinic-2/
CATEGORIES:AWLA in the Community,Clinics
END:VEVENT
BEGIN:VEVENT
DTSTART;TZID=America/New_York:20220626T120000
DTEND;TZID=America/New_York:20220626T160000
DTSTAMP:20260424T193810
CREATED:20220623T014321Z
LAST-MODIFIED:20220623T014321Z
UID:10002511-1656244800-1656259200@www.awla.org
SUMMARY:It's A Small World - Adoption Event
DESCRIPTION:  \nThe Animal Welfare League of Arlington and our friends at Fairfax County Animal Shelter are overflowing with small companion animals in need of homes!\nTo help find new homes for these wonderful pets\, AWLA and Fairfax County Animal Shelter are joining forces this Sunday\, June 26\, to host our It’s A Small World adoption event\, where adoption fees for all small companion animals will be FREE*! \nMeet AWLA’s Small Companion Animals  Meet Fairfax County’s Small Companion Animals \n*Standard adoption policies and procedures apply. Please refer to each shelter’s individual adoption processes and policies by clicking the buttons above.
URL:https://www.awla.org/event/its-a-small-world-adoption-event/
CATEGORIES:Adoption
END:VEVENT
BEGIN:VEVENT
DTSTART;TZID=America/New_York:20220628T180000
DTEND;TZID=America/New_York:20220628T190000
DTSTAMP:20260424T193810
CREATED:20220420T174927Z
LAST-MODIFIED:20220516T154419Z
UID:10002506-1656439200-1656442800@www.awla.org
SUMMARY:Smarty Pets: Reactivity in the Wild
DESCRIPTION:
URL:https://www.awla.org/event/smarty-pets-reactivity-in-the-wild/
CATEGORIES:Smarty Pets
END:VEVENT
END:VCALENDAR