BEGIN:VCALENDAR
VERSION:2.0
PRODID:-//Animal Welfare League of Arlington - ECPv6.15.17//NONSGML v1.0//EN
CALSCALE:GREGORIAN
METHOD:PUBLISH
X-ORIGINAL-URL:https://www.awla.org
X-WR-CALDESC:Events for Animal Welfare League of Arlington
REFRESH-INTERVAL;VALUE=DURATION:PT1H
X-Robots-Tag:noindex
X-PUBLISHED-TTL:PT1H
BEGIN:VTIMEZONE
TZID:America/New_York
BEGIN:DAYLIGHT
TZOFFSETFROM:-0500
TZOFFSETTO:-0400
TZNAME:EDT
DTSTART:20210314T070000
END:DAYLIGHT
BEGIN:STANDARD
TZOFFSETFROM:-0400
TZOFFSETTO:-0500
TZNAME:EST
DTSTART:20211107T060000
END:STANDARD
BEGIN:DAYLIGHT
TZOFFSETFROM:-0500
TZOFFSETTO:-0400
TZNAME:EDT
DTSTART:20220313T070000
END:DAYLIGHT
BEGIN:STANDARD
TZOFFSETFROM:-0400
TZOFFSETTO:-0500
TZNAME:EST
DTSTART:20221106T060000
END:STANDARD
BEGIN:DAYLIGHT
TZOFFSETFROM:-0500
TZOFFSETTO:-0400
TZNAME:EDT
DTSTART:20230312T070000
END:DAYLIGHT
BEGIN:STANDARD
TZOFFSETFROM:-0400
TZOFFSETTO:-0500
TZNAME:EST
DTSTART:20231105T060000
END:STANDARD
END:VTIMEZONE
BEGIN:VEVENT
DTSTART;TZID=America/New_York:20221201T160000
DTEND;TZID=America/New_York:20221201T190000
DTSTAMP:20260424T153651
CREATED:20221111T190123Z
LAST-MODIFIED:20221201T203727Z
UID:10002524-1669910400-1669921200@www.awla.org
SUMMARY:Ugly Sweater Party
DESCRIPTION:Due to unforeseen circumstances\, AWLA’s Ugly Sweater Party has been cancelled. We hope to be able to reschedule this event soon! We apologize for any inconvenience. 
URL:https://www.awla.org/event/ugly-sweater-party/
LOCATION:Wilson Hardware\, 2915 Wilson Blvd\, Arlington\, VA\, 22201\, United States
CATEGORIES:Fundraiser
END:VEVENT
BEGIN:VEVENT
DTSTART;TZID=America/New_York:20221202T120000
DTEND;TZID=America/New_York:20221204T160000
DTSTAMP:20260424T153651
CREATED:20221202T161827Z
LAST-MODIFIED:20221202T161851Z
UID:10002527-1669982400-1670169600@www.awla.org
SUMMARY:FREE Dog Adoption Event
DESCRIPTION:Our dog kennels are full!\nWe need adopters and fosters ASAP!\nFrom December 2 to 4 we are offering FREE adoption fees for all adult dogs (6 months +).\nStandard adoption policies and procedures apply. \nIf you’re unable to adopt\, consider fostering! We are also looking for foster families who are able to foster for the weekend (December 2-4) or longer. If you are interested in fostering\, fill out our foster application here and then visit the shelter during regular business hours.
URL:https://www.awla.org/event/free-dog-adoption-event/
CATEGORIES:Adoption
END:VEVENT
BEGIN:VEVENT
DTSTART;TZID=America/New_York:20221203T080000
DTEND;TZID=America/New_York:20221204T160000
DTSTAMP:20260424T153651
CREATED:20221111T004621Z
LAST-MODIFIED:20221111T010534Z
UID:10002523-1670054400-1670169600@www.awla.org
SUMMARY:Porch Portraits
DESCRIPTION:
URL:https://www.awla.org/event/porch-portraits-4/
CATEGORIES:Fundraiser
END:VEVENT
BEGIN:VEVENT
DTSTART;TZID=America/New_York:20221210T090000
DTEND;TZID=America/New_York:20221210T120000
DTSTAMP:20260424T153651
CREATED:20221202T130007Z
LAST-MODIFIED:20221209T012149Z
UID:10002526-1670662800-1670673600@www.awla.org
SUMMARY:Low-Cost Vaccine & Microchip Clinic - FULL
DESCRIPTION:This clinic is FULL. Please check back for 2023 dates! \nGet your pets their vaccines or a microchip at AWLA!  \nAWLA offers rabies vaccines\, distemper vaccines (DAPPv for dogs and HCPCh for cats)\, and microchips for cats and dogs. \nThese clinics are by reservation only. You must sign up in advance for a designated time. Sign-ups for each date will open a week before the clinic date. \n\nRabies shots are $10\, distemper shots are $15 microchips are $35.\nNO CASH\, card payment only.\nAll humans must wear a mask at all times and maintain at appropriate distances of at least 6 feet in all situations.\nIf you arrive after your designated time\, you will lose your spot.\nAll dogs must be on a leash\, and all cats in carriers. Retractable leashes are not allowed.\nIf your pet is reactive to humans or other animals\, please do not sign up for this clinic. We ask that you seek advice from a veterinarian.\nThe clinic is indoors in the AWLA Education Room. Waiting is outside\, so please dress appropriately for the weather.\nIf you want a three-year rabies shot\, you must bring proof of prior rabies shot (vet records or rabies certificates only\, or dog licenses only\, tags do not count).\nDistemper shots are based on the age\, and vaccine history of each pet. If you do not bring proof your pet has received this vaccine before and is not past due\, they will need a booster in 2-4 weeks.\nWe do not offer 3 year distemper shots.\n\nAll paperwork for this clinic will be done at the clinic. \nAdditional Information About Rabies Vaccinations\nVirginia law requires that all dogs and cats four months of age and older have a current rabies vaccine. Please bring proof of a prior rabies shot (a rabies certificate\, not a tag) to get a three-year rabies shot. Without it\, your pet will receive a one-year shot. All dogs must be on leashes and cats must be in carriers. \nAdditional Information About Microchipping\nGive your pet the protection of a 24PetWatch MiniChip. Each year thousands of lost and abandoned animals are taken in by shelters and humane societies across the country. Some of these animals never make it home because they cannot be identified. Microchipping offers the only truly permanent method of identifying your pet and linking the animal back to you\, the owner. \n*Dates are subject to change at the discretion of AWLA
URL:https://www.awla.org/event/low-cost-vaccine-microchip-clinic-10/
CATEGORIES:Clinics
END:VEVENT
BEGIN:VEVENT
DTSTART;TZID=America/New_York:20221212T170000
DTEND;TZID=America/New_York:20221212T180000
DTSTAMP:20260424T153651
CREATED:20220914T023623Z
LAST-MODIFIED:20220926T211959Z
UID:10002362-1670864400-1670868000@www.awla.org
SUMMARY:Kids Virtual Workshop: Becoming A Veterinarian
DESCRIPTION:Learn all about becoming a veterinarian with AWLA’s FREE interactive virtual Zoom workshop! During this one hour program\, kids will learn about the long journey it takes to become a veterinarian. \nWorkshops would best fit children fourth through eighth grades\, but all are welcome to listen and enjoy! \nSign Up
URL:https://www.awla.org/event/kids-virtual-workshop-becoming-a-veterinarian/
LOCATION:Virtual
CATEGORIES:Educational Programs,Free Educational Programs,Kids Educational Programs
END:VEVENT
BEGIN:VEVENT
DTSTART;TZID=America/New_York:20221219T120000
DTEND;TZID=America/New_York:20221223T170000
DTSTAMP:20260424T153651
CREATED:20221208T204845Z
LAST-MODIFIED:20221209T182108Z
UID:10002528-1671451200-1671814800@www.awla.org
SUMMARY:Home for the Holidays
DESCRIPTION:Take a shelter pet Home for the Holidays! \nIf you’re staying in town for the holiday season and have extra room at your table\, you can foster a dog\, cat\, or small companion animal and give them a much-deserved break from their kennels over the holidays! You might even fall in love and decide to keep your foster pet – if so\, you’ll get 50% off their adoption fee! \n\n\n\nAll basic supplies will be provided by the shelter\, although foster families are welcome to purchase extra toys and supplies if they would like to!\nFoster families must be able to pick up a pet at the shelter between Dec 19-23\, and be able to keep them in their home until at least Jan 2\, 2023. You must notify a staff member by Jan 2nd if you would like to adopt your foster pet or keep them in foster until they find a new home.\nFoster families must live in Virginia\, Maryland\, or D.C.\, and cannot travel out of the DMV area with their foster pets.\nFoster families must follow all rules and guidelines of our foster program.\nFoster families will be matched up with a pet on a first-come\, first-match basis\, and we cannot guarantee every family interested in taking part will be able to foster a pet. \n\n\n\n\n  \nHow To Take Part\n\nFill out the form below.\nVisit the shelter between December 19-23 (Mon/Tues/Wed/Thur/Fri between 12-7pm) to speak to one of our foster coordinators who will match you up with a foster pet (foster families will be matched up with a pet on a first-come\, first-match basis\, and we cannot guarantee every family interested in taking part will be able to foster a pet). \nTake home your new foster pet and enjoy the holidays!\n\nLoading…
URL:https://www.awla.org/event/home-for-the-holidays-2/
CATEGORIES:Adoption
END:VEVENT
BEGIN:VEVENT
DTSTART;TZID=America/New_York:20221223T090000
DTEND;TZID=America/New_York:20221223T120000
DTSTAMP:20260424T153651
CREATED:20221202T130003Z
LAST-MODIFIED:20221206T210441Z
UID:10002525-1671786000-1671796800@www.awla.org
SUMMARY:Pet Pantry Holiday Delivery - FULL
DESCRIPTION:All slots have been filled for our 2022 Pet Pantry Holiday Delivery! \n\nOur Pet Pantry Holiday Delivery is back! If you are in need of supplies for your dog or cat\, AWLA will deliver FREE care packages of pet food and supplies to your doorstep on Friday\, December 23 between 9am and 12pm. Please read through the requirements and then click the link below to sign up!\n\nDelivery Requirements: \n\nYou must live in Arlington County or the City of Falls Church.\nAn adult (18 years+) must be present at your home and available between 9am and 12pm on this date to receive your delivery.\nYou must have a working phone number that our volunteers can call if they have trouble with a delivery.
URL:https://www.awla.org/event/pet-pantry-holiday-delivery/
CATEGORIES:AWLA in the Community
END:VEVENT
END:VCALENDAR