BEGIN:VCALENDAR
VERSION:2.0
PRODID:-//Animal Welfare League of Arlington - ECPv6.15.17//NONSGML v1.0//EN
CALSCALE:GREGORIAN
METHOD:PUBLISH
X-ORIGINAL-URL:https://www.awla.org
X-WR-CALDESC:Events for Animal Welfare League of Arlington
REFRESH-INTERVAL;VALUE=DURATION:PT1H
X-Robots-Tag:noindex
X-PUBLISHED-TTL:PT1H
BEGIN:VTIMEZONE
TZID:America/New_York
BEGIN:DAYLIGHT
TZOFFSETFROM:-0500
TZOFFSETTO:-0400
TZNAME:EDT
DTSTART:20220313T070000
END:DAYLIGHT
BEGIN:STANDARD
TZOFFSETFROM:-0400
TZOFFSETTO:-0500
TZNAME:EST
DTSTART:20221106T060000
END:STANDARD
BEGIN:DAYLIGHT
TZOFFSETFROM:-0500
TZOFFSETTO:-0400
TZNAME:EDT
DTSTART:20230312T070000
END:DAYLIGHT
BEGIN:STANDARD
TZOFFSETFROM:-0400
TZOFFSETTO:-0500
TZNAME:EST
DTSTART:20231105T060000
END:STANDARD
BEGIN:DAYLIGHT
TZOFFSETFROM:-0500
TZOFFSETTO:-0400
TZNAME:EDT
DTSTART:20240310T070000
END:DAYLIGHT
BEGIN:STANDARD
TZOFFSETFROM:-0400
TZOFFSETTO:-0500
TZNAME:EST
DTSTART:20241103T060000
END:STANDARD
END:VTIMEZONE
BEGIN:VEVENT
DTSTART;TZID=America/New_York:20230128T120000
DTEND;TZID=America/New_York:20230129T160000
DTSTAMP:20260424T172830
CREATED:20230119T164431Z
LAST-MODIFIED:20230119T164431Z
UID:10002537-1674907200-1675008000@www.awla.org
SUMMARY:Piggie Palooza Adoption Event
DESCRIPTION:It’s a Piggie Palooza at AWLA!\nFind your newest fuzzy BFF during our Piggie Palooza party! We are full to the brim with guinea pigs\, so AWLA is offering FREE adoption fees for all of our adorable piggies! \nWhen: Saturday\, January 28 – Sunday\, January 29\nWhere: 2650 S Arlington Mill Dr\, Arlington VA 22206 \nStandard adoption policies and procedures apply. \nMeet Our Guinea Pigs
URL:https://www.awla.org/event/piggie-palooza-adoption-event/
CATEGORIES:Adoption
END:VEVENT
END:VCALENDAR