BEGIN:VCALENDAR
VERSION:2.0
PRODID:-//Animal Welfare League of Arlington - ECPv6.15.17//NONSGML v1.0//EN
CALSCALE:GREGORIAN
METHOD:PUBLISH
X-ORIGINAL-URL:https://www.awla.org
X-WR-CALDESC:Events for Animal Welfare League of Arlington
REFRESH-INTERVAL;VALUE=DURATION:PT1H
X-Robots-Tag:noindex
X-PUBLISHED-TTL:PT1H
BEGIN:VTIMEZONE
TZID:America/New_York
BEGIN:DAYLIGHT
TZOFFSETFROM:-0500
TZOFFSETTO:-0400
TZNAME:EDT
DTSTART:20220313T070000
END:DAYLIGHT
BEGIN:STANDARD
TZOFFSETFROM:-0400
TZOFFSETTO:-0500
TZNAME:EST
DTSTART:20221106T060000
END:STANDARD
BEGIN:DAYLIGHT
TZOFFSETFROM:-0500
TZOFFSETTO:-0400
TZNAME:EDT
DTSTART:20230312T070000
END:DAYLIGHT
BEGIN:STANDARD
TZOFFSETFROM:-0400
TZOFFSETTO:-0500
TZNAME:EST
DTSTART:20231105T060000
END:STANDARD
BEGIN:DAYLIGHT
TZOFFSETFROM:-0500
TZOFFSETTO:-0400
TZNAME:EDT
DTSTART:20240310T070000
END:DAYLIGHT
BEGIN:STANDARD
TZOFFSETFROM:-0400
TZOFFSETTO:-0500
TZNAME:EST
DTSTART:20241103T060000
END:STANDARD
END:VTIMEZONE
BEGIN:VEVENT
DTSTART;TZID=America/New_York:20230414T120000
DTEND;TZID=America/New_York:20230414T140000
DTSTAMP:20260421T202235
CREATED:20230316T180611Z
LAST-MODIFIED:20230316T180649Z
UID:10002544-1681473600-1681480800@www.awla.org
SUMMARY:Pet Pantry Market
DESCRIPTION:Visit AWLA on Friday\, April 14 from 12-2pm for AWLA’s Pet Pantry Market!  \nCommunity members can shop our market for new and gently used pet supplies\, all under $10. We have cat trees\, ramps\, stairs\, leashes\, collars\, and more available! \nItems available on a first-come\, first-serve basis. All proceeds benefit AWLA’s Pet Pantry.
URL:https://www.awla.org/event/pet-pantry-market-2/
LOCATION:Animal Welfare League of Arlington\, 2650 S Arlington Mill Dr\, Arlington\, VA\, 22206\, United States
CATEGORIES:Pet Pantry
END:VEVENT
BEGIN:VEVENT
DTSTART;TZID=America/New_York:20230415T120000
DTEND;TZID=America/New_York:20230417T190000
DTSTAMP:20260421T202235
CREATED:20230414T210951Z
LAST-MODIFIED:20230414T211024Z
UID:10002548-1681560000-1681758000@www.awla.org
SUMMARY:Small Animal Jamboree
DESCRIPTION:AWLA is offering free adoption fees for all small companion animals from April 15-17! \nVisit the shelter to find your new furry (or feathery) BFF and chat with small animal experts about what you’ll need to keep your new friend happy in their new home! \nMeet our Small Companion Animals! \nStandard adoption policies and procedures apply.
URL:https://www.awla.org/event/small-animal-jamboree/
LOCATION:Animal Welfare League of Arlington\, 2650 S Arlington Mill Dr\, Arlington\, VA\, 22206\, United States
CATEGORIES:Adoption
END:VEVENT
BEGIN:VEVENT
DTSTART;TZID=America/New_York:20230422T090000
DTEND;TZID=America/New_York:20230422T120000
DTSTAMP:20260421T202235
CREATED:20230106T180320Z
LAST-MODIFIED:20230426T154812Z
UID:10002530-1682154000-1682164800@www.awla.org
SUMMARY:Low-Cost Rabies and Microchip Clinic
DESCRIPTION:Get your pets their vaccines or a microchip at AWLA!  \nAWLA offers rabies vaccines\, distemper vaccines (DAPPv for dogs and HCPCh for cats)\, and microchips for cats and dogs. \nThese clinics are by reservation only. You must sign up in advance for a designated time. Sign-ups for each date will open a week before the clinic date. \n\nRabies shots are $10\, distemper shots are $15 microchips are $35.\nNO CASH\, card payment only.\nIf you arrive after your designated time\, you will lose your spot.\nAll dogs must be on a leash\, and all cats in carriers. Retractable leashes are not allowed.\nIf your pet is reactive to humans or other animals\, please do not sign up for this clinic. We ask that you seek advice from a veterinarian.\nThe clinic is indoors in the AWLA Education Room. Waiting is outside\, so please dress appropriately for the weather.\nIf you want a three-year rabies shot\, you must bring proof of prior rabies shot (vet records or rabies certificates only\, or dog licenses only\, tags do not count).\nDistemper shots are based on the age\, and vaccine history of each pet. If you do not bring proof your pet has received this vaccine before and is not past due\, they will need a booster in 2-4 weeks.\nWe do not offer 3 year distemper shots.\n\nAll paperwork for this clinic will be done at the clinic. \nAdditional Information About Rabies Vaccinations\nVirginia law requires that all dogs and cats four months of age and older have a current rabies vaccine. Please bring proof of a prior rabies shot (a rabies certificate\, not a tag) to get a three-year rabies shot. Without it\, your pet will receive a one-year shot. All dogs must be on leashes and cats must be in carriers. \nAdditional Information About Microchipping\nGive your pet the protection of a 24PetWatch MiniChip. Each year thousands of lost and abandoned animals are taken in by shelters and humane societies across the country. Some of these animals never make it home because they cannot be identified. Microchipping offers the only truly permanent method of identifying your pet and linking the animal back to you\, the owner. \n*Dates are subject to change at the discretion of AWLA
URL:https://www.awla.org/event/low-cost-rabies-and-microchip-clinic-5/
LOCATION:Animal Welfare League of Arlington\, 2650 S Arlington Mill Dr\, Arlington\, VA\, 22206\, United States
CATEGORIES:Clinics
END:VEVENT
BEGIN:VEVENT
DTSTART;TZID=America/New_York:20230425T150000
DTEND;TZID=America/New_York:20230425T160000
DTSTAMP:20260421T202235
CREATED:20230414T203314Z
LAST-MODIFIED:20230414T203314Z
UID:10002549-1682434800-1682438400@www.awla.org
SUMMARY:Kitten College Continuing Education: Recruit and Retain Foster Families
DESCRIPTION:
URL:https://www.awla.org/event/kitten-college-continuing-education-recruit-and-retain-foster-families/
LOCATION:Virtual
CATEGORIES:Educational Programs,Free Educational Programs
END:VEVENT
BEGIN:VEVENT
DTSTART;TZID=America/New_York:20230427T180000
DTEND;TZID=America/New_York:20230427T190000
DTSTAMP:20260421T202235
CREATED:20230412T172839Z
LAST-MODIFIED:20230412T172901Z
UID:10002547-1682618400-1682622000@www.awla.org
SUMMARY:Smarty Pets: Lost (And Found) Cats
DESCRIPTION:
URL:https://www.awla.org/event/smarty-pets-lost-and-found-cats/
LOCATION:Virtual
CATEGORIES:Smarty Pets
END:VEVENT
BEGIN:VEVENT
DTSTART;TZID=America/New_York:20230430T000000
DTEND;TZID=America/New_York:20230507T000000
DTSTAMP:20260421T202235
CREATED:20230426T155212Z
LAST-MODIFIED:20230426T203808Z
UID:10002546-1682812800-1683417600@www.awla.org
SUMMARY:Empty the Shelters
DESCRIPTION:It’s time to Empty the Shelters!\nFrom April 30-May 7\, AWLA is offering $25 adoption fees for all cats and dogs thanks to Bissell Pet Foundation! Standard adoption policies and procedures apply. Puppies and kittens under 6 months old do not qualify for this promotion. \nMeet Your New Best Friend \nBISSELL Pet Foundation’s “Empty the Shelters” event is the largest funded adoption event in the country. With a goal of encouraging more families to choose adoption\, this lifesaving effort has helped nearly 118\,000 pets find loving homes since 2016. “Empty the Shelters” is BISSELL Pet Foundation’s largest program\, partnering with a total of 541 animal welfare organizations in 47 states and Canada to reduce adoption fees.
URL:https://www.awla.org/event/empty-the-shelters-5/
CATEGORIES:Adoption
END:VEVENT
END:VCALENDAR