BEGIN:VCALENDAR
VERSION:2.0
PRODID:-//Animal Welfare League of Arlington - ECPv6.15.17//NONSGML v1.0//EN
CALSCALE:GREGORIAN
METHOD:PUBLISH
X-WR-CALNAME:Animal Welfare League of Arlington
X-ORIGINAL-URL:https://www.awla.org
X-WR-CALDESC:Events for Animal Welfare League of Arlington
REFRESH-INTERVAL;VALUE=DURATION:PT1H
X-Robots-Tag:noindex
X-PUBLISHED-TTL:PT1H
BEGIN:VTIMEZONE
TZID:America/New_York
BEGIN:DAYLIGHT
TZOFFSETFROM:-0500
TZOFFSETTO:-0400
TZNAME:EDT
DTSTART:20220313T070000
END:DAYLIGHT
BEGIN:STANDARD
TZOFFSETFROM:-0400
TZOFFSETTO:-0500
TZNAME:EST
DTSTART:20221106T060000
END:STANDARD
BEGIN:DAYLIGHT
TZOFFSETFROM:-0500
TZOFFSETTO:-0400
TZNAME:EDT
DTSTART:20230312T070000
END:DAYLIGHT
BEGIN:STANDARD
TZOFFSETFROM:-0400
TZOFFSETTO:-0500
TZNAME:EST
DTSTART:20231105T060000
END:STANDARD
BEGIN:DAYLIGHT
TZOFFSETFROM:-0500
TZOFFSETTO:-0400
TZNAME:EDT
DTSTART:20240310T070000
END:DAYLIGHT
BEGIN:STANDARD
TZOFFSETFROM:-0400
TZOFFSETTO:-0500
TZNAME:EST
DTSTART:20241103T060000
END:STANDARD
END:VTIMEZONE
BEGIN:VEVENT
DTSTART;TZID=America/New_York:20230430T000000
DTEND;TZID=America/New_York:20230507T000000
DTSTAMP:20260425T155447
CREATED:20230426T155212Z
LAST-MODIFIED:20230426T203808Z
UID:10002546-1682812800-1683417600@www.awla.org
SUMMARY:Empty the Shelters
DESCRIPTION:It’s time to Empty the Shelters!\nFrom April 30-May 7\, AWLA is offering $25 adoption fees for all cats and dogs thanks to Bissell Pet Foundation! Standard adoption policies and procedures apply. Puppies and kittens under 6 months old do not qualify for this promotion. \nMeet Your New Best Friend \nBISSELL Pet Foundation’s “Empty the Shelters” event is the largest funded adoption event in the country. With a goal of encouraging more families to choose adoption\, this lifesaving effort has helped nearly 118\,000 pets find loving homes since 2016. “Empty the Shelters” is BISSELL Pet Foundation’s largest program\, partnering with a total of 541 animal welfare organizations in 47 states and Canada to reduce adoption fees.
URL:https://www.awla.org/event/empty-the-shelters-5/
CATEGORIES:Adoption
END:VEVENT
BEGIN:VEVENT
DTSTART;TZID=America/New_York:20230507T100000
DTEND;TZID=America/New_York:20230507T120000
DTSTAMP:20260425T155447
CREATED:20230505T185457Z
LAST-MODIFIED:20230505T185457Z
UID:10002550-1683453600-1683460800@www.awla.org
SUMMARY:Pet Pantry Market
DESCRIPTION:Visit AWLA on Sunday\, May 7 from 10-12pm for AWLA’s Pet Pantry Market!  \nCommunity members can shop our market for new and gently used pet supplies\, all under $10. We have pet beds\, bowls\, leashes\, collars\, and more available! \nItems available on a first-come\, first-serve basis. All proceeds benefit AWLA’s Pet Pantry.
URL:https://www.awla.org/event/pet-pantry-market-3/
LOCATION:Animal Welfare League of Arlington\, 2650 S Arlington Mill Dr\, Arlington\, VA\, 22206\, United States
CATEGORIES:AWLA in the Community,Pet Pantry
END:VEVENT
BEGIN:VEVENT
DTSTART;TZID=America/New_York:20230516T173000
DTEND;TZID=America/New_York:20230516T183000
DTSTAMP:20260425T155447
CREATED:20230510T193024Z
LAST-MODIFIED:20230510T193106Z
UID:10002551-1684258200-1684261800@www.awla.org
SUMMARY:Foster Program: Dog Social
DESCRIPTION:Visit the shelter on Tuesday\, May 16 at for an AWLA Foster Program Dog Social! You’ll be able to meet dogs looking for foster homes and hang out with other foster families. BYOB – water and snacks provided! Long pants & close-toed shoes required. No children under 18 allowed at this event. \nAlready an AWLA foster? No registration is required – we’ll see you there!\nInterested in becoming an AWLA foster? We’d love you to attend – please sign up to become an AWLA foster before the event. Thank you!
URL:https://www.awla.org/event/foster-program-dog-social/
LOCATION:Animal Welfare League of Arlington\, 2650 S Arlington Mill Dr\, Arlington\, VA\, 22206\, United States
CATEGORIES:Foster
END:VEVENT
END:VCALENDAR