BEGIN:VCALENDAR
VERSION:2.0
PRODID:-//Animal Welfare League of Arlington - ECPv6.15.17//NONSGML v1.0//EN
CALSCALE:GREGORIAN
METHOD:PUBLISH
X-WR-CALNAME:Animal Welfare League of Arlington
X-ORIGINAL-URL:https://www.awla.org
X-WR-CALDESC:Events for Animal Welfare League of Arlington
REFRESH-INTERVAL;VALUE=DURATION:PT1H
X-Robots-Tag:noindex
X-PUBLISHED-TTL:PT1H
BEGIN:VTIMEZONE
TZID:America/New_York
BEGIN:DAYLIGHT
TZOFFSETFROM:-0500
TZOFFSETTO:-0400
TZNAME:EDT
DTSTART:20230312T070000
END:DAYLIGHT
BEGIN:STANDARD
TZOFFSETFROM:-0400
TZOFFSETTO:-0500
TZNAME:EST
DTSTART:20231105T060000
END:STANDARD
BEGIN:DAYLIGHT
TZOFFSETFROM:-0500
TZOFFSETTO:-0400
TZNAME:EDT
DTSTART:20240310T070000
END:DAYLIGHT
BEGIN:STANDARD
TZOFFSETFROM:-0400
TZOFFSETTO:-0500
TZNAME:EST
DTSTART:20241103T060000
END:STANDARD
BEGIN:DAYLIGHT
TZOFFSETFROM:-0500
TZOFFSETTO:-0400
TZNAME:EDT
DTSTART:20250309T070000
END:DAYLIGHT
BEGIN:STANDARD
TZOFFSETFROM:-0400
TZOFFSETTO:-0500
TZNAME:EST
DTSTART:20251102T060000
END:STANDARD
END:VTIMEZONE
BEGIN:VEVENT
DTSTART;TZID=America/New_York:20240406T120000
DTEND;TZID=America/New_York:20240408T190000
DTSTAMP:20260424T135629
CREATED:20240325T224834Z
LAST-MODIFIED:20240325T224834Z
UID:10002579-1712404800-1712602800@www.awla.org
SUMMARY:Partial Eclipse of the Heart Adoption Event
DESCRIPTION:Arlington may witness only a partial eclipse this year\, but AWLA is here to ensure your heart reaches the totality of love by adopting a new best friend! \nFrom April 6 – 8\, AWLA is offering an astronomical 80% off adoption fees for all adult pets (6 months and older). Whether you’re seeking a loyal canine co-pilot\, a purring feline confidant\, or any other celestial companion\, our diverse selection of furry friends guarantees a match made in the stars. \nDon’t miss this opportunity to make a celestial connection that will eclipse all others! \nClick Here To Find Your Cosmic Companion!
URL:https://www.awla.org/event/partial-eclipse-of-the-heart-adoption-event/
LOCATION:Animal Welfare League of Arlington\, 2650 S Arlington Mill Dr\, Arlington\, VA\, 22206\, United States
CATEGORIES:Adoption
ATTACH;FMTTYPE=image/png:https://www.awla.org/wp-content/uploads/2024/03/2_Partial-Eclipse-of-the-Heart-Medium-Banner-US-Landscape.png
END:VEVENT
BEGIN:VEVENT
DTSTART;TZID=America/New_York:20240411T183000
DTEND;TZID=America/New_York:20240411T203000
DTSTAMP:20260424T135629
CREATED:20231129T201358Z
LAST-MODIFIED:20240404T195405Z
UID:10002577-1712860200-1712867400@www.awla.org
SUMMARY:Low-Cost Vaccine & Microchip Clinic - SOLD OUT
DESCRIPTION:Get your pets their vaccines or a microchip at AWLA!  \nAWLA offers rabies vaccines\, distemper vaccines (DAPPv for dogs and HCPCh for cats)\, and microchips for cats and dogs. \nThese clinics are by reservation only. You must sign up in advance for a designated time. This clinic is sold out! \nRabies shots are $15\, distemper shots are free\, and microchips are $35. \n\nNO CASH\, card payment only.\nAll humans must wear a mask at all times and maintain an appropriate distance of at least 6 feet in all situations.\nIf you arrive after your designated time\, you will lose your spot.\nAll dogs must be on a leash\, and all cats in carriers. Retractable leashes are not allowed.\nIf your pet is reactive to humans or other animals\, please do not sign up for this clinic. We ask that you seek advice from a veterinarian.\nThe clinic is indoors in the AWLA Education Room. Waiting is outside\, so please dress appropriately for the weather.\nIf you want a three-year rabies shot\, you must bring proof of prior rabies shot (vet records or rabies certificates only\, or dog licenses only\, tags do not count).\nDistemper shots are based on the age\, and vaccine history of each pet. If you do not bring proof your pet has received this vaccine before and is not past due\, they will need a booster in 2-4 weeks.\nWe do not offer 3 year distemper shots.\n\nAll paperwork for this clinic will be done at the clinic. \nAdditional Information About Rabies Vaccinations\nVirginia law requires that all dogs and cats four months of age and older have a current rabies vaccine. Please bring proof of a prior rabies shot (a rabies certificate\, not a tag) to get a three-year rabies shot. Without it\, your pet will receive a one-year shot. All dogs must be on leashes and cats must be in carriers. \nAdditional Information About Microchipping\nGive your pet the protection of a 24PetWatch MiniChip. Each year thousands of lost and abandoned animals are taken in by shelters and humane societies across the country. Some of these animals never make it home because they cannot be identified. Microchipping offers the only truly permanent method of identifying your pet and linking the animal back to you\, the owner. \n*Dates are subject to change at the discretion of AWLA
URL:https://www.awla.org/event/low-cost-vaccine-microchip-clinic-12/
LOCATION:Animal Welfare League of Arlington\, 2650 S Arlington Mill Dr\, Arlington\, VA\, 22206\, United States
CATEGORIES:Clinics
END:VEVENT
BEGIN:VEVENT
DTSTART;TZID=America/New_York:20240413T100000
DTEND;TZID=America/New_York:20240413T123000
DTSTAMP:20260424T135629
CREATED:20240327T190903Z
LAST-MODIFIED:20240409T205012Z
UID:10002580-1713002400-1713011400@www.awla.org
SUMMARY:Paws & Read Story Time
DESCRIPTION:THIS EVENT HAS BEEN CANCELED. We apologize for any inconvenience.
URL:https://www.awla.org/event/paws-read-story-time/
LOCATION:Animal Welfare League of Arlington\, 2650 S Arlington Mill Dr\, Arlington\, VA\, 22206\, United States
CATEGORIES:Kids Educational Programs
ATTACH;FMTTYPE=image/png:https://www.awla.org/wp-content/uploads/2024/03/website-event-banner.png
END:VEVENT
BEGIN:VEVENT
DTSTART;TZID=America/New_York:20240419T180000
DTEND;TZID=America/New_York:20240419T193000
DTSTAMP:20260424T135629
CREATED:20240411T192752Z
LAST-MODIFIED:20240411T192842Z
UID:10002581-1713549600-1713555000@www.awla.org
SUMMARY:Taylor Swift New Album Listening Party with Kittens!
DESCRIPTION:
URL:https://www.awla.org/event/taylor-swift-new-album-listening-party-with-kittens/
LOCATION:Animal Welfare League of Arlington\, 2650 S Arlington Mill Dr\, Arlington\, VA\, 22206\, United States
CATEGORIES:Fundraiser
ATTACH;FMTTYPE=image/png:https://www.awla.org/wp-content/uploads/2024/04/banner-_taylor_swift_new_album_listening_party.png
END:VEVENT
BEGIN:VEVENT
DTSTART;TZID=America/New_York:20240430T180000
DTEND;TZID=America/New_York:20240430T190000
DTSTAMP:20260424T135629
CREATED:20240415T153039Z
LAST-MODIFIED:20240415T153230Z
UID:10002582-1714500000-1714503600@www.awla.org
SUMMARY:Smarty Pets: Animal Welfare Advocacy & Legislation
DESCRIPTION:
URL:https://www.awla.org/event/smarty-pets-animal-welfare-advocacy-legislation/
CATEGORIES:Smarty Pets
END:VEVENT
END:VCALENDAR