BEGIN:VCALENDAR
VERSION:2.0
PRODID:-//Animal Welfare League of Arlington - ECPv6.15.17//NONSGML v1.0//EN
CALSCALE:GREGORIAN
METHOD:PUBLISH
X-ORIGINAL-URL:https://www.awla.org
X-WR-CALDESC:Events for Animal Welfare League of Arlington
REFRESH-INTERVAL;VALUE=DURATION:PT1H
X-Robots-Tag:noindex
X-PUBLISHED-TTL:PT1H
BEGIN:VTIMEZONE
TZID:America/New_York
BEGIN:DAYLIGHT
TZOFFSETFROM:-0500
TZOFFSETTO:-0400
TZNAME:EDT
DTSTART:20240310T070000
END:DAYLIGHT
BEGIN:STANDARD
TZOFFSETFROM:-0400
TZOFFSETTO:-0500
TZNAME:EST
DTSTART:20241103T060000
END:STANDARD
BEGIN:DAYLIGHT
TZOFFSETFROM:-0500
TZOFFSETTO:-0400
TZNAME:EDT
DTSTART:20250309T070000
END:DAYLIGHT
BEGIN:STANDARD
TZOFFSETFROM:-0400
TZOFFSETTO:-0500
TZNAME:EST
DTSTART:20251102T060000
END:STANDARD
BEGIN:DAYLIGHT
TZOFFSETFROM:-0500
TZOFFSETTO:-0400
TZNAME:EDT
DTSTART:20260308T070000
END:DAYLIGHT
BEGIN:STANDARD
TZOFFSETFROM:-0400
TZOFFSETTO:-0500
TZNAME:EST
DTSTART:20261101T060000
END:STANDARD
END:VTIMEZONE
BEGIN:VEVENT
DTSTART;TZID=America/New_York:20250403T173000
DTEND;TZID=America/New_York:20250403T183000
DTSTAMP:20260425T151629
CREATED:20241216T193831Z
LAST-MODIFIED:20250323T031241Z
UID:10002618-1743701400-1743705000@www.awla.org
SUMMARY:Kids CARE Club: Wildlife Helpers
DESCRIPTION:Did you know many wild animals need help every year? Join us to meet some special guests from our Wildlife Resource Center and learn how we help injured or baby wild animals get back to nature.\nKids CARE Club (Creating a Responsible Environment) is a program series for animal lovers ages 4-10 and their families to learn how to keep pets and wildlife safe through hands-on activities and crafts. Caregivers must attend along with their children. If you have multiple children attending\, please purchase one spot each. Although Kids CARE Club is a free program\, donations to our Humane Education fund are appreciated and help us to provide more children’s programs like these! \nRegister \n \nLearn more about our Kids C.A.R.E. Club membership!
URL:https://www.awla.org/event/kids-care-club-wildlife-helpers/
LOCATION:Animal Welfare League of Arlington\, 2650 S Arlington Mill Dr\, Arlington\, VA\, 22206\, United States
CATEGORIES:Kids Educational Programs
ATTACH;FMTTYPE=image/jpeg:https://www.awla.org/wp-content/uploads/2024/12/baby-squirrel_aco_cliff_feeding_13-scaled.jpg
ORGANIZER;CN="Animal Welfare League of Arlington":MAILTO:hdickman@awla.org
END:VEVENT
BEGIN:VEVENT
DTSTART;TZID=America/New_York:20250408T180000
DTEND;TZID=America/New_York:20250408T200000
DTSTAMP:20260425T151629
CREATED:20241202T191743Z
LAST-MODIFIED:20250328T175717Z
UID:10002606-1744135200-1744142400@www.awla.org
SUMMARY:Low-Cost Vaccine & Microchip Clinic
DESCRIPTION:Get your pets their vaccines or a microchip at AWLA!  \nAWLA offers rabies vaccines\, distemper vaccines (DAPPv for dogs and HCPCh for cats)\, and microchips for cats and dogs. \nThese clinics are by reservation only. You must register in advance for a designated time. Registration for this clinic will open the Friday in the week prior. \nRegistration for this clinic opens on Friday\, March 28. \nClick Here To Register \nRabies shots are $15\, distemper shots are free\, and microchips are $35. \n\nExact cash or card payment only.\nAll dogs must be on a leash\, and all cats in carriers. Retractable leashes are not allowed.\nIf your pet is reactive to humans or other animals\, please do not sign up for this clinic. We ask that you seek advice from a veterinarian.\nThe clinic is indoors in the AWLA Education Room. Waiting is outside\, so please dress appropriately for the weather.\nIf you want a three-year rabies shot\, you must bring proof of prior rabies shot (vet records or rabies certificates only\, or dog licenses only\, tags do not count).\nDistemper shots are based on the age\, and vaccine history of each pet. If you do not bring proof your pet has received this vaccine before and is not past due\, they will need a booster in 2-4 weeks.\n\nAll paperwork for this clinic will be done at the clinic. \n\n\n\nMore Info About Vaccines & Microchips\n\n\n\n\n\n\n\n\n\nRabies Vaccines \nRabies is a fatal disease that affects both pets and people\, but it is entirely preventable with vaccination. Virginia law requires that all dogs and cats four months of age and older have a current rabies vaccine. \n\n\n\n\n\n\n\n\n\n\nDistemper Vaccines \nThe DHPP vaccine – Distemper\, Hepatitis\, Parainfluenza\, and Parvovirus – is commonly referred to as the distemper vaccine. It is a combo vaccine that protects against all four of the diseases in its name. \n\n\n\n\n\n\n\n\n\n\nMicrochips \nA microchip is a small device\, about the size of a grain of rice\, that provides permanent identification for your pet. It is implanted under the skin and contains a unique ID number that can be scanned by a vet or shelter. This number is linked to your contact information\, helping reunite you with your pet if they ever get lost.
URL:https://www.awla.org/event/low-cost-vaccine-microchip-clinic-22/
LOCATION:Animal Welfare League of Arlington\, 2650 S Arlington Mill Dr\, Arlington\, VA\, 22206\, United States
CATEGORIES:Clinics
ORGANIZER;CN="Animal Welfare League of Arlington":MAILTO:hdickman@awla.org
END:VEVENT
END:VCALENDAR