BEGIN:VCALENDAR
VERSION:2.0
PRODID:-//Animal Welfare League of Arlington - ECPv6.15.17//NONSGML v1.0//EN
CALSCALE:GREGORIAN
METHOD:PUBLISH
X-WR-CALNAME:Animal Welfare League of Arlington
X-ORIGINAL-URL:https://www.awla.org
X-WR-CALDESC:Events for Animal Welfare League of Arlington
REFRESH-INTERVAL;VALUE=DURATION:PT1H
X-Robots-Tag:noindex
X-PUBLISHED-TTL:PT1H
BEGIN:VTIMEZONE
TZID:America/New_York
BEGIN:DAYLIGHT
TZOFFSETFROM:-0500
TZOFFSETTO:-0400
TZNAME:EDT
DTSTART:20240310T070000
END:DAYLIGHT
BEGIN:STANDARD
TZOFFSETFROM:-0400
TZOFFSETTO:-0500
TZNAME:EST
DTSTART:20241103T060000
END:STANDARD
BEGIN:DAYLIGHT
TZOFFSETFROM:-0500
TZOFFSETTO:-0400
TZNAME:EDT
DTSTART:20250309T070000
END:DAYLIGHT
BEGIN:STANDARD
TZOFFSETFROM:-0400
TZOFFSETTO:-0500
TZNAME:EST
DTSTART:20251102T060000
END:STANDARD
BEGIN:DAYLIGHT
TZOFFSETFROM:-0500
TZOFFSETTO:-0400
TZNAME:EDT
DTSTART:20260308T070000
END:DAYLIGHT
BEGIN:STANDARD
TZOFFSETFROM:-0400
TZOFFSETTO:-0500
TZNAME:EST
DTSTART:20261101T060000
END:STANDARD
END:VTIMEZONE
BEGIN:VEVENT
DTSTART;TZID=America/New_York:20250601T080000
DTEND;TZID=America/New_York:20250630T120000
DTSTAMP:20260425T151557
CREATED:20250516T192935Z
LAST-MODIFIED:20250519T164831Z
UID:10002632-1748764800-1751284800@www.awla.org
SUMMARY:2025 Rescue Brew Contest
DESCRIPTION:🍺 COULD YOUR PET BE THE FACE OF AWLA’s RESCUE BREW 2025? 🐾 \nThe Animal Welfare League of Arlington and The Board Room Brewery are proud to announce our first ever RESCUE BREW PHOTO CONTEST – where local pets compete for a chance to become the face of limited-edition brew labels. \nThe winners will earn their place in brewing history\, with their adorable mugs featured on 32 oz crowlers available this summer. \nWHY ENTER? \n\nFame: Your pet’s face on a limited edition beer produced just for this contest\nCommunity: Join fellow pet lovers in supporting a great cause\nImpact: Every submission and vote raises critical funds for homeless animals\n\nAll proceeds benefit the Animal Welfare League of Arlington’s life-saving programs for homeless\, injured\, and at-risk animals in our community. \nContest starts JUNE 1 at 8am. \nENTER & VOTE HERE
URL:https://www.awla.org/event/2025-rescue-brew-contest/
CATEGORIES:Fundraiser
ATTACH;FMTTYPE=image/jpeg:https://www.awla.org/wp-content/uploads/2025/05/AWLABoardRoom-Rescue-Brew-Contest_Social-Media-Graphic-2.jpg
END:VEVENT
BEGIN:VEVENT
DTSTART;TZID=America/New_York:20250605T173000
DTEND;TZID=America/New_York:20250605T183000
DTSTAMP:20260425T151557
CREATED:20241216T200505Z
LAST-MODIFIED:20250125T034617Z
UID:10002620-1749144600-1749148200@www.awla.org
SUMMARY:Kids CARE Club: Kitten Party
DESCRIPTION:Kittens are everywhere in the summer\, and they’re too cute! Join us to make a cat-tastic craft\, learn about our Kitten College\, and meet some of our adorable kittens who are looking for their new homes.\nKids CARE Club (Creating a Responsible Environment) is a program series for animal lovers ages 4-10 and their families to learn how to keep pets and wildlife safe through hands-on activities and crafts. Caregivers must attend along with their children. If you have multiple children attending\, please purchase one spot each. Although Kids CARE Club is a free program\, donations to our Humane Education fund are appreciated and help us to provide more children’s programs like these! \nRegister \n \nLearn more about our Kids C.A.R.E. Club membership!
URL:https://www.awla.org/event/kids-care-club-kitten-party/
LOCATION:Animal Welfare League of Arlington\, 2650 S Arlington Mill Dr\, Arlington\, VA\, 22206\, United States
CATEGORIES:Kids Educational Programs
ATTACH;FMTTYPE=image/jpeg:https://www.awla.org/wp-content/uploads/2024/12/blog-kitten-nursery-operation-kindness.jpg
END:VEVENT
BEGIN:VEVENT
DTSTART;TZID=America/New_York:20250607T090000
DTEND;TZID=America/New_York:20250607T120000
DTSTAMP:20260425T151557
CREATED:20241202T192215Z
LAST-MODIFIED:20250328T175950Z
UID:10002608-1749286800-1749297600@www.awla.org
SUMMARY:Low-Cost Vaccine & Microchip Clinic
DESCRIPTION:Get your pets their vaccines or a microchip at AWLA!  \nAWLA offers rabies vaccines\, distemper vaccines (DAPPv for dogs and HCPCh for cats)\, and microchips for cats and dogs. \nThese clinics are by reservation only. You must register in advance for a designated time. Registration for this clinic will open the Friday in the week prior. \nRegistration for this clinic opens on Friday\, May 30. \nClick Here To Register \nRabies shots are $15\, distemper shots are free\, and microchips are $35. \n\nExact cash or card payment only.\nAll dogs must be on a leash\, and all cats in carriers. Retractable leashes are not allowed.\nIf your pet is reactive to humans or other animals\, please do not sign up for this clinic. We ask that you seek advice from a veterinarian.\nThe clinic is indoors in the AWLA Education Room. Waiting is outside\, so please dress appropriately for the weather.\nIf you want a three-year rabies shot\, you must bring proof of prior rabies shot (vet records or rabies certificates only\, or dog licenses only\, tags do not count).\nDistemper shots are based on the age\, and vaccine history of each pet. If you do not bring proof your pet has received this vaccine before and is not past due\, they will need a booster in 2-4 weeks.\n\nAll paperwork for this clinic will be done at the clinic. \n\n\n\nMore Info About Vaccines & Microchips\n\n\n\n\n\n\n\n\n\nRabies Vaccines \nRabies is a fatal disease that affects both pets and people\, but it is entirely preventable with vaccination. Virginia law requires that all dogs and cats four months of age and older have a current rabies vaccine. \n\n\n\n\n\n\n\n\n\n\nDistemper Vaccines \nThe DHPP vaccine – Distemper\, Hepatitis\, Parainfluenza\, and Parvovirus – is commonly referred to as the distemper vaccine. It is a combo vaccine that protects against all four of the diseases in its name. \n\n\n\n\n\n\n\n\n\n\nMicrochips \nA microchip is a small device\, about the size of a grain of rice\, that provides permanent identification for your pet. It is implanted under the skin and contains a unique ID number that can be scanned by a vet or shelter. This number is linked to your contact information\, helping reunite you with your pet if they ever get lost.
URL:https://www.awla.org/event/low-cost-vaccine-microchip-clinic-24/
LOCATION:Animal Welfare League of Arlington\, 2650 S Arlington Mill Dr\, Arlington\, VA\, 22206\, United States
ORGANIZER;CN="Animal Welfare League of Arlington":MAILTO:hdickman@awla.org
END:VEVENT
END:VCALENDAR