BEGIN:VCALENDAR
VERSION:2.0
PRODID:-//Animal Welfare League of Arlington - ECPv6.15.17//NONSGML v1.0//EN
CALSCALE:GREGORIAN
METHOD:PUBLISH
X-ORIGINAL-URL:https://www.awla.org
X-WR-CALDESC:Events for Animal Welfare League of Arlington
REFRESH-INTERVAL;VALUE=DURATION:PT1H
X-Robots-Tag:noindex
X-PUBLISHED-TTL:PT1H
BEGIN:VTIMEZONE
TZID:America/New_York
BEGIN:DAYLIGHT
TZOFFSETFROM:-0500
TZOFFSETTO:-0400
TZNAME:EDT
DTSTART:20240310T070000
END:DAYLIGHT
BEGIN:STANDARD
TZOFFSETFROM:-0400
TZOFFSETTO:-0500
TZNAME:EST
DTSTART:20241103T060000
END:STANDARD
BEGIN:DAYLIGHT
TZOFFSETFROM:-0500
TZOFFSETTO:-0400
TZNAME:EDT
DTSTART:20250309T070000
END:DAYLIGHT
BEGIN:STANDARD
TZOFFSETFROM:-0400
TZOFFSETTO:-0500
TZNAME:EST
DTSTART:20251102T060000
END:STANDARD
BEGIN:DAYLIGHT
TZOFFSETFROM:-0500
TZOFFSETTO:-0400
TZNAME:EDT
DTSTART:20260308T070000
END:DAYLIGHT
BEGIN:STANDARD
TZOFFSETFROM:-0400
TZOFFSETTO:-0500
TZNAME:EST
DTSTART:20261101T060000
END:STANDARD
END:VTIMEZONE
BEGIN:VEVENT
DTSTART;TZID=America/New_York:20251123T160000
DTEND;TZID=America/New_York:20251123T190000
DTSTAMP:20260425T165821
CREATED:20251110T202553Z
LAST-MODIFIED:20251114T164455Z
UID:10002638-1763913600-1763924400@www.awla.org
SUMMARY:2025 Annual Santa Paws Photos at Dogma Dog Bakery
DESCRIPTION:Capture the Holiday Spirit With Your Pet!\n \nIt’s the most paws-itively wonderful time of the year! Bring your furry friends to meet Santa Claus at Dogma Dog Bakery’s Annual Santa Paws Photos\, benefiting the Animal Welfare League of Arlington (AWLA). \nFor a $30 donation\, you’ll receive a professional digital photo of your pet with Santa\, perfect for holiday cards\, gifts\, or sharing on social media. Your photo will be emailed directly to you by the photographer after the event. \nEvery dollar raised helps support AWLA’s lifesaving work for animals in need across Arlington County. \nEvent Details\n\n\nWhen: Sunday\, November 23\, 2025 | 4 PM – 7 PM \n\n\nWhere: Dogma Dog Bakery\, 2772 S. Arlington Mill Drive\, Arlington VA 22206 \n\n\nCost: $30 per pet photo (includes digital file) \n\n\nBenefiting: Animal Welfare League of Arlington \n\n\nReserve Your Spot\nSpots fill up fast! Click below to reserve your time with Santa Paws and make this holiday season magical for you and your furry family members. \nRegister Here
URL:https://www.awla.org/event/2025-annual-santa-paws-photos-at-dogma-dog-bakery/
LOCATION:Dogma Dog Bakery\, 2772 S. Arlington Mill Drive\, Arlington\, VA\, 22206\, United States
CATEGORIES:Fundraiser
ATTACH;FMTTYPE=image/jpeg:https://www.awla.org/wp-content/uploads/2025/11/D25EB520-2B6C-4A54-B931-9EFD81D96C97-scaled.jpg
ORGANIZER;CN="Animal Welfare League of Arlington":MAILTO:hdickman@awla.org
END:VEVENT
END:VCALENDAR