BEGIN:VCALENDAR
VERSION:2.0
PRODID:-//Animal Welfare League of Arlington - ECPv6.15.17//NONSGML v1.0//EN
CALSCALE:GREGORIAN
METHOD:PUBLISH
X-ORIGINAL-URL:https://www.awla.org
X-WR-CALDESC:Events for Animal Welfare League of Arlington
REFRESH-INTERVAL;VALUE=DURATION:PT1H
X-Robots-Tag:noindex
X-PUBLISHED-TTL:PT1H
BEGIN:VTIMEZONE
TZID:America/New_York
BEGIN:DAYLIGHT
TZOFFSETFROM:-0500
TZOFFSETTO:-0400
TZNAME:EDT
DTSTART:20240310T070000
END:DAYLIGHT
BEGIN:STANDARD
TZOFFSETFROM:-0400
TZOFFSETTO:-0500
TZNAME:EST
DTSTART:20241103T060000
END:STANDARD
BEGIN:DAYLIGHT
TZOFFSETFROM:-0500
TZOFFSETTO:-0400
TZNAME:EDT
DTSTART:20250309T070000
END:DAYLIGHT
BEGIN:STANDARD
TZOFFSETFROM:-0400
TZOFFSETTO:-0500
TZNAME:EST
DTSTART:20251102T060000
END:STANDARD
BEGIN:DAYLIGHT
TZOFFSETFROM:-0500
TZOFFSETTO:-0400
TZNAME:EDT
DTSTART:20260308T070000
END:DAYLIGHT
BEGIN:STANDARD
TZOFFSETFROM:-0400
TZOFFSETTO:-0500
TZNAME:EST
DTSTART:20261101T060000
END:STANDARD
END:VTIMEZONE
BEGIN:VEVENT
DTSTART;TZID=America/New_York:20251204T173000
DTEND;TZID=America/New_York:20251204T183000
DTSTAMP:20260425T183644
CREATED:20241216T201227Z
LAST-MODIFIED:20250125T040508Z
UID:10002622-1764869400-1764873000@www.awla.org
SUMMARY:Kids CARE Club: Holiday Pawty
DESCRIPTION:Celebrate the holidays with AWLA! You’ll decorate cookies for our dogs\, make a fun holiday craft\, and learn how foster families help shelter pets find a warm and loving home—especially during the holidays.\nKids CARE Club (Creating a Responsible Environment) is a program series for animal lovers ages 4-10 and their families to learn how to keep pets and wildlife safe through hands-on activities and crafts. Caregivers must attend along with their children. If you have multiple children attending\, please purchase one spot each. Although Kids CARE Club is a free program\, donations to our Humane Education fund are appreciated and help us to provide more children’s programs like these! \nRegister \n \nLearn more about our Kids C.A.R.E. Club membership!
URL:https://www.awla.org/event/kids-care-club-holiday-pawty/
LOCATION:Animal Welfare League of Arlington\, 2650 S Arlington Mill Dr\, Arlington\, VA\, 22206\, United States
CATEGORIES:Kids Educational Programs
ATTACH;FMTTYPE=image/jpeg:https://www.awla.org/wp-content/uploads/2024/12/Blog_dog-with-scarf-in-snow.jpg
ORGANIZER;CN="Animal Welfare League of Arlington":MAILTO:hdickman@awla.org
END:VEVENT
END:VCALENDAR