BEGIN:VCALENDAR
VERSION:2.0
PRODID:-//Animal Welfare League of Arlington - ECPv6.15.17//NONSGML v1.0//EN
CALSCALE:GREGORIAN
METHOD:PUBLISH
X-ORIGINAL-URL:https://www.awla.org
X-WR-CALDESC:Events for Animal Welfare League of Arlington
REFRESH-INTERVAL;VALUE=DURATION:PT1H
X-Robots-Tag:noindex
X-PUBLISHED-TTL:PT1H
BEGIN:VTIMEZONE
TZID:America/New_York
BEGIN:DAYLIGHT
TZOFFSETFROM:-0500
TZOFFSETTO:-0400
TZNAME:EDT
DTSTART:20250309T070000
END:DAYLIGHT
BEGIN:STANDARD
TZOFFSETFROM:-0400
TZOFFSETTO:-0500
TZNAME:EST
DTSTART:20251102T060000
END:STANDARD
BEGIN:DAYLIGHT
TZOFFSETFROM:-0500
TZOFFSETTO:-0400
TZNAME:EDT
DTSTART:20260308T070000
END:DAYLIGHT
BEGIN:STANDARD
TZOFFSETFROM:-0400
TZOFFSETTO:-0500
TZNAME:EST
DTSTART:20261101T060000
END:STANDARD
BEGIN:DAYLIGHT
TZOFFSETFROM:-0500
TZOFFSETTO:-0400
TZNAME:EDT
DTSTART:20270314T070000
END:DAYLIGHT
BEGIN:STANDARD
TZOFFSETFROM:-0400
TZOFFSETTO:-0500
TZNAME:EST
DTSTART:20271107T060000
END:STANDARD
END:VTIMEZONE
BEGIN:VEVENT
DTSTART;TZID=America/New_York:20260618T173000
DTEND;TZID=America/New_York:20260618T183000
DTSTAMP:20260424T233246
CREATED:20260106T203851Z
LAST-MODIFIED:20260106T203851Z
UID:10002644-1781803800-1781807400@www.awla.org
SUMMARY:D.I.Y. Pet Toys with Kids C.A.R.E. Club
DESCRIPTION:Pets love new toys—and kids can make them! In this Kids C.A.R.E. Club session\, children will learn how to create fun\, safe enrichment toys for pets using everyday materials. Along the way\, they’ll discover why mental and physical enrichment is important for animal health and happiness. \nThis hands-on activity teaches creativity\, responsibility\, and how small acts of care can improve the lives of shelter pets and family companions alike. \nAges 4-10 \nRegister for This Session \nKids C.A.R.E. Club Membership – 2026 \nInterested in attending more than one session? Make it official with a Kids C.A.R.E. Club Membership! Your child will enjoy exclusive perks while helping support AWLA’s youth education programs. \nEach membership includes: \n\nAccess to our exclusive Member Party (September 2026)\nAWLA Youth Programs T-Shirt\nAWLA Backpack\nStuffed pet (kitten or puppy)\nKids C.A.R.E. Membership Pin\nStickers\, activities\, and more!\n\nMemberships are available through our online store. Each membership is a $50 donation that directly supports AWLA’s humane education programs. \nKids C.A.R.E. Club Membership
URL:https://www.awla.org/event/d-i-y-pet-toys-with-kids-c-a-r-e-club/
CATEGORIES:Educational Programs,Free Educational Programs,Free Workshops,Kids Educational Programs,Kids Workshops,Workshops
ATTACH;FMTTYPE=image/png:https://www.awla.org/wp-content/uploads/2026/01/Kids-Care-Club-6.png
ORGANIZER;CN="Animal Welfare League of Arlington":MAILTO:hdickman@awla.org
END:VEVENT
BEGIN:VEVENT
DTSTART;TZID=America/New_York:20260620T180000
DTEND;TZID=America/New_York:20260620T200000
DTSTAMP:20260424T233246
CREATED:20241202T192423Z
LAST-MODIFIED:20251216T195728Z
UID:10002609-1781978400-1781985600@www.awla.org
SUMMARY:Low-Cost Vaccine & Microchip Clinic
DESCRIPTION:Get your pets their vaccines or a microchip at AWLA!  \nAWLA offers rabies vaccines\, distemper vaccines (DAPPv for dogs and HCPCh for cats)\, and microchips for cats and dogs. \nThese clinics are by reservation only. You must register in advance for a designated time. Registration for this clinic will open the Friday in the week prior. \nRegistration for this clinic opens on Friday\, June 12. \nClick Here To Register \nRabies shots are $20\, distemper shots are free\, and microchips are $35. \n\nExact cash or card payment only.\nAll dogs must be on a leash\, and all cats in carriers. Retractable leashes are not allowed.\nIf your pet is reactive to humans or other animals\, please do not sign up for this clinic. We ask that you seek advice from a veterinarian.\nThe clinic is indoors in the AWLA Education Room. Waiting is outside\, so please dress appropriately for the weather.\nIf you want a three-year rabies shot\, you must bring proof of prior rabies shot (vet records or rabies certificates only\, or dog licenses only\, tags do not count).\nDistemper shots are based on the age\, and vaccine history of each pet. If you do not bring proof your pet has received this vaccine before and is not past due\, they will need a booster in 2-4 weeks.\n\nAll paperwork for this clinic will be done at the clinic. \n\n\n\nMore Info About Vaccines & Microchips\n\n\n\n\n\n\n\n\n\nRabies Vaccines \nRabies is a fatal disease that affects both pets and people\, but it is entirely preventable with vaccination. Virginia law requires that all dogs and cats four months of age and older have a current rabies vaccine. \n\n\n\n\n\n\n\n\n\n\nDistemper Vaccines \nThe DHPP vaccine – Distemper\, Hepatitis\, Parainfluenza\, and Parvovirus – is commonly referred to as the distemper vaccine. It is a combo vaccine that protects against all four of the diseases in its name. \n\n\n\n\n\n\n\n\n\n\nMicrochips \nA microchip is a small device\, about the size of a grain of rice\, that provides permanent identification for your pet. It is implanted under the skin and contains a unique ID number that can be scanned by a vet or shelter. This number is linked to your contact information\, helping reunite you with your pet if they ever get lost.
URL:https://www.awla.org/event/low-cost-vaccine-microchip-clinic-jun/
LOCATION:Animal Welfare League of Arlington\, 2650 S Arlington Mill Dr\, Arlington\, VA\, 22206\, United States
CATEGORIES:Clinics
ORGANIZER;CN="Animal Welfare League of Arlington":MAILTO:hdickman@awla.org
END:VEVENT
END:VCALENDAR